BEGIN:VCALENDAR
PRODID;X-RICAL-TZSOURCE=TZINFO:timetable.tusur.ru
CALSCALE:GREGORIAN
VERSION:2.0
BEGIN:VTIMEZONE
TZID;X-RICAL-TZSOURCE=TZINFO:Asia/Novosibirsk
BEGIN:STANDARD
DTSTART:20160724T020000
RDATE:20160724T040000
TZOFFSETFROM:+0600
TZOFFSETTO:+0700
TZNAME:+07
END:STANDARD
END:VTIMEZONE
BEGIN:VEVENT
DTEND;TZID=Asia/Novosibirsk;VALUE=DATE-TIME:20260425T145000
DTSTART;TZID=Asia/Novosibirsk;VALUE=DATE-TIME:20260425T131500
DESCRIPTION:Практика\, с 12-30\, Буинцев Д.Н.
SUMMARY:Научно-технический семинар
LOCATION:улк 402
END:VEVENT
BEGIN:VEVENT
DTEND;TZID=Asia/Novosibirsk;VALUE=DATE-TIME:20260425T163500
DTSTART;TZID=Asia/Novosibirsk;VALUE=DATE-TIME:20260425T150000
DESCRIPTION:Практика\, Буинцев Д.Н.
SUMMARY:Научно-технический семинар
LOCATION:улк 402
END:VEVENT
BEGIN:VEVENT
DTEND;TZID=Asia/Novosibirsk;VALUE=DATE-TIME:20260423T200500
DTSTART;TZID=Asia/Novosibirsk;VALUE=DATE-TIME:20260423T183000
DESCRIPTION:Практика\, Рахманенко И.А.
SUMMARY:Оценка качества систем машинного обучения
LOCATION:улк 405
END:VEVENT
BEGIN:VEVENT
DTEND;TZID=Asia/Novosibirsk;VALUE=DATE-TIME:20260423T215000
DTSTART;TZID=Asia/Novosibirsk;VALUE=DATE-TIME:20260423T201500
DESCRIPTION:Практика\, Рахманенко И.А.
SUMMARY:Оценка качества систем машинного обучения
LOCATION:улк 405
END:VEVENT
BEGIN:VEVENT
DTEND;TZID=Asia/Novosibirsk;VALUE=DATE-TIME:20260421T200500
DTSTART;TZID=Asia/Novosibirsk;VALUE=DATE-TIME:20260421T183000
DESCRIPTION:Лекция\, Рахманенко И.А.
SUMMARY:Оценка качества систем машинного обучения
LOCATION:улк 303
END:VEVENT
BEGIN:VEVENT
DTEND;TZID=Asia/Novosibirsk;VALUE=DATE-TIME:20260422T215000
DTSTART;TZID=Asia/Novosibirsk;VALUE=DATE-TIME:20260422T201500
DESCRIPTION:Курсовая работа\, Пехов О.В.
SUMMARY:Технологии Интернета вещей
LOCATION:улк 707
END:VEVENT
BEGIN:VEVENT
DTEND;TZID=Asia/Novosibirsk;VALUE=DATE-TIME:20260425T121500
DTSTART;TZID=Asia/Novosibirsk;VALUE=DATE-TIME:20260425T104000
DESCRIPTION:Практика\, Рубан В.А.
SUMMARY:Профессиональный иностранный язык
LOCATION:улк 401
END:VEVENT
BEGIN:VEVENT
DTEND;TZID=Asia/Novosibirsk;VALUE=DATE-TIME:20260421T215000
DTSTART;TZID=Asia/Novosibirsk;VALUE=DATE-TIME:20260421T201500
DESCRIPTION:Лекция\, Рахманенко И.А.
SUMMARY:Оценка качества систем машинного обучения
LOCATION:улк 303
END:VEVENT
BEGIN:VEVENT
DTEND;TZID=Asia/Novosibirsk;VALUE=DATE-TIME:20260422T200500
DTSTART;TZID=Asia/Novosibirsk;VALUE=DATE-TIME:20260422T183000
DESCRIPTION:Курсовая работа\, Пехов О.В.
SUMMARY:Технологии Интернета вещей
LOCATION:улк 707
END:VEVENT
BEGIN:VEVENT
DTEND;TZID=Asia/Novosibirsk;VALUE=DATE-TIME:20260425T182000
DTSTART;TZID=Asia/Novosibirsk;VALUE=DATE-TIME:20260425T164500
DESCRIPTION:Практика\, Рахманенко И.А.
SUMMARY:Оценка качества систем машинного обучения
LOCATION:улк 405
END:VEVENT
BEGIN:VEVENT
DTEND;TZID=Asia/Novosibirsk;VALUE=DATE-TIME:20260427T200500
DTSTART;TZID=Asia/Novosibirsk;VALUE=DATE-TIME:20260427T183000
DESCRIPTION:Экзамен\, Рахманенко И.А.
SUMMARY:Оценка качества систем машинного обучения
LOCATION:улк 402
END:VEVENT
BEGIN:VEVENT
DTEND;TZID=Asia/Novosibirsk;VALUE=DATE-TIME:20260427T215000
DTSTART;TZID=Asia/Novosibirsk;VALUE=DATE-TIME:20260427T201500
DESCRIPTION:Экзамен\, Рахманенко И.А.
SUMMARY:Оценка качества систем машинного обучения
LOCATION:улк 402
END:VEVENT
BEGIN:VEVENT
DTEND;TZID=Asia/Novosibirsk;VALUE=DATE-TIME:20260509T121500
DTSTART;TZID=Asia/Novosibirsk;VALUE=DATE-TIME:20260509T104000
DESCRIPTION:Практика\, Рубан В.А.
SUMMARY:Профессиональный иностранный язык
LOCATION:улк 303
END:VEVENT
BEGIN:VEVENT
DTEND;TZID=Asia/Novosibirsk;VALUE=DATE-TIME:20260417T215000
DTSTART;TZID=Asia/Novosibirsk;VALUE=DATE-TIME:20260417T201500
DESCRIPTION:Практика\, Рахманенко И.А.
SUMMARY:Оценка качества систем машинного обучения
LOCATION:улк 413
END:VEVENT
BEGIN:VEVENT
DTEND;TZID=Asia/Novosibirsk;VALUE=DATE-TIME:20260416T215000
DTSTART;TZID=Asia/Novosibirsk;VALUE=DATE-TIME:20260416T201500
DESCRIPTION:Лекция\, Рахманенко И.А.
SUMMARY:Оценка качества систем машинного обучения
LOCATION:улк 311
END:VEVENT
BEGIN:VEVENT
DTEND;TZID=Asia/Novosibirsk;VALUE=DATE-TIME:20260418T121500
DTSTART;TZID=Asia/Novosibirsk;VALUE=DATE-TIME:20260418T104000
DESCRIPTION:Практика\, Рубан В.А.
SUMMARY:Профессиональный иностранный язык
LOCATION:улк 305
END:VEVENT
BEGIN:VEVENT
DTEND;TZID=Asia/Novosibirsk;VALUE=DATE-TIME:20260417T200500
DTSTART;TZID=Asia/Novosibirsk;VALUE=DATE-TIME:20260417T183000
DESCRIPTION:Практика\, Рахманенко И.А.
SUMMARY:Оценка качества систем машинного обучения
LOCATION:улк 413
END:VEVENT
BEGIN:VEVENT
DTEND;TZID=Asia/Novosibirsk;VALUE=DATE-TIME:20260418T145000
DTSTART;TZID=Asia/Novosibirsk;VALUE=DATE-TIME:20260418T131500
DESCRIPTION:Практика\, с 12-30\, Буинцев Д.Н.
SUMMARY:Научно-технический семинар
LOCATION:улк 402
END:VEVENT
BEGIN:VEVENT
DTEND;TZID=Asia/Novosibirsk;VALUE=DATE-TIME:20260416T200500
DTSTART;TZID=Asia/Novosibirsk;VALUE=DATE-TIME:20260416T183000
DESCRIPTION:Лекция\, Рахманенко И.А.
SUMMARY:Оценка качества систем машинного обучения
LOCATION:улк 311
END:VEVENT
BEGIN:VEVENT
DTEND;TZID=Asia/Novosibirsk;VALUE=DATE-TIME:20260418T182000
DTSTART;TZID=Asia/Novosibirsk;VALUE=DATE-TIME:20260418T164500
DESCRIPTION:Практика\, Рахманенко И.А.
SUMMARY:Оценка качества систем машинного обучения
LOCATION:улк 405
END:VEVENT
BEGIN:VEVENT
DTEND;TZID=Asia/Novosibirsk;VALUE=DATE-TIME:20260418T163500
DTSTART;TZID=Asia/Novosibirsk;VALUE=DATE-TIME:20260418T150000
DESCRIPTION:Практика\, Буинцев Д.Н.
SUMMARY:Научно-технический семинар
LOCATION:улк 402
END:VEVENT
END:VCALENDAR
