BEGIN:VCALENDAR
PRODID;X-RICAL-TZSOURCE=TZINFO:timetable.tusur.ru
CALSCALE:GREGORIAN
VERSION:2.0
BEGIN:VTIMEZONE
TZID;X-RICAL-TZSOURCE=TZINFO:Asia/Novosibirsk
BEGIN:STANDARD
DTSTART:20160724T020000
RDATE:20160724T040000
TZOFFSETFROM:+0600
TZOFFSETTO:+0700
TZNAME:+07
END:STANDARD
END:VTIMEZONE
BEGIN:VEVENT
DTEND;TZID=Asia/Novosibirsk;VALUE=DATE-TIME:20260422T145000
DTSTART;TZID=Asia/Novosibirsk;VALUE=DATE-TIME:20260422T131500
DESCRIPTION:Лекция\, Долгирев В.
SUMMARY:Оптические цифровые телекоммуникационные системы
LOCATION:рк 431
END:VEVENT
BEGIN:VEVENT
DTEND;TZID=Asia/Novosibirsk;VALUE=DATE-TIME:20260422T163500
DTSTART;TZID=Asia/Novosibirsk;VALUE=DATE-TIME:20260422T150000
DESCRIPTION:Лекция\, Окунев Д.В.
SUMMARY:Волоконно-оптические устройства и системы технологического назнач
 ения
LOCATION:рк 333б
END:VEVENT
BEGIN:VEVENT
DTEND;TZID=Asia/Novosibirsk;VALUE=DATE-TIME:20260420T102500
DTSTART;TZID=Asia/Novosibirsk;VALUE=DATE-TIME:20260420T085000
DESCRIPTION:Лекция\, Долгирев В.
SUMMARY:Оптические цифровые телекоммуникационные системы
LOCATION:рк 333б
END:VEVENT
BEGIN:VEVENT
DTEND;TZID=Asia/Novosibirsk;VALUE=DATE-TIME:20260420T121500
DTSTART;TZID=Asia/Novosibirsk;VALUE=DATE-TIME:20260420T104000
DESCRIPTION:Лекция\, Долгирев В.
SUMMARY:Оптические цифровые телекоммуникационные системы
LOCATION:рк 333б
END:VEVENT
BEGIN:VEVENT
DTEND;TZID=Asia/Novosibirsk;VALUE=DATE-TIME:20260420T145000
DTSTART;TZID=Asia/Novosibirsk;VALUE=DATE-TIME:20260420T131500
DESCRIPTION:Лекция\, Хатьков Н.Д.
SUMMARY:Оптические направляющие среды
LOCATION:рк 333б
END:VEVENT
BEGIN:VEVENT
DTEND;TZID=Asia/Novosibirsk;VALUE=DATE-TIME:20260420T163500
DTSTART;TZID=Asia/Novosibirsk;VALUE=DATE-TIME:20260420T150000
DESCRIPTION:Лекция\, Хатьков Н.Д.
SUMMARY:Оптические направляющие среды
LOCATION:рк 333б
END:VEVENT
BEGIN:VEVENT
DTEND;TZID=Asia/Novosibirsk;VALUE=DATE-TIME:20260421T145000
DTSTART;TZID=Asia/Novosibirsk;VALUE=DATE-TIME:20260421T131500
DESCRIPTION:Практика\, Шарангович С.Н.
SUMMARY:Технологическая практика
LOCATION:рк 337б
END:VEVENT
BEGIN:VEVENT
DTEND;TZID=Asia/Novosibirsk;VALUE=DATE-TIME:20260421T163500
DTSTART;TZID=Asia/Novosibirsk;VALUE=DATE-TIME:20260421T150000
DESCRIPTION:Практика\, Шарангович С.Н.
SUMMARY:Технологическая практика
LOCATION:рк 337б
END:VEVENT
BEGIN:VEVENT
DTEND;TZID=Asia/Novosibirsk;VALUE=DATE-TIME:20260421T102500
DTSTART;TZID=Asia/Novosibirsk;VALUE=DATE-TIME:20260421T085000
DESCRIPTION:Курсовое проектирование\, Перин А.С.
SUMMARY:Проектирование\, строительство и эксплуатация волоконно-оптически
 х линий связи
LOCATION:рк 337б
END:VEVENT
BEGIN:VEVENT
DTEND;TZID=Asia/Novosibirsk;VALUE=DATE-TIME:20260421T121500
DTSTART;TZID=Asia/Novosibirsk;VALUE=DATE-TIME:20260421T104000
DESCRIPTION:Курсовое проектирование\, Перин А.С.
SUMMARY:Проектирование\, строительство и эксплуатация волоконно-оптически
 х линий связи
LOCATION:рк 337б
END:VEVENT
BEGIN:VEVENT
DTEND;TZID=Asia/Novosibirsk;VALUE=DATE-TIME:20260422T102500
DTSTART;TZID=Asia/Novosibirsk;VALUE=DATE-TIME:20260422T085000
DESCRIPTION:Лекция\, Пелявин Д.Ю.
SUMMARY:Сетевые технологии высокоскоростной передачи данных
LOCATION:рк 415
END:VEVENT
BEGIN:VEVENT
DTEND;TZID=Asia/Novosibirsk;VALUE=DATE-TIME:20260422T121500
DTSTART;TZID=Asia/Novosibirsk;VALUE=DATE-TIME:20260422T104000
DESCRIPTION:Лекция\, Пелявин Д.Ю.
SUMMARY:Сетевые технологии высокоскоростной передачи данных
LOCATION:рк 415
END:VEVENT
BEGIN:VEVENT
DTEND;TZID=Asia/Novosibirsk;VALUE=DATE-TIME:20260423T163500
DTSTART;TZID=Asia/Novosibirsk;VALUE=DATE-TIME:20260423T150000
DESCRIPTION:Лекция\, Пелявин Д.Ю.
SUMMARY:Сети связи и системы коммутации
LOCATION:рк 418
END:VEVENT
BEGIN:VEVENT
DTEND;TZID=Asia/Novosibirsk;VALUE=DATE-TIME:20260423T182000
DTSTART;TZID=Asia/Novosibirsk;VALUE=DATE-TIME:20260423T164500
DESCRIPTION:Лекция\, Кормилин В.А.
SUMMARY:Вычислительная техника
LOCATION:рк 210
END:VEVENT
BEGIN:VEVENT
DTEND;TZID=Asia/Novosibirsk;VALUE=DATE-TIME:20260423T121500
DTSTART;TZID=Asia/Novosibirsk;VALUE=DATE-TIME:20260423T104000
DESCRIPTION:Лекция\, Хатьков Н.Д.
SUMMARY:Оптические направляющие среды
LOCATION:рк 333б
END:VEVENT
BEGIN:VEVENT
DTEND;TZID=Asia/Novosibirsk;VALUE=DATE-TIME:20260423T145000
DTSTART;TZID=Asia/Novosibirsk;VALUE=DATE-TIME:20260423T131500
DESCRIPTION:Лекция\, Пелявин Д.Ю.
SUMMARY:Сетевые технологии высокоскоростной передачи данных
LOCATION:рк 418
END:VEVENT
BEGIN:VEVENT
DTEND;TZID=Asia/Novosibirsk;VALUE=DATE-TIME:20260427T145000
DTSTART;TZID=Asia/Novosibirsk;VALUE=DATE-TIME:20260427T131500
DESCRIPTION:Курсовое проектирование\, Долгирев В.
SUMMARY:Оптические цифровые телекоммуникационные системы
LOCATION:рк 333б
END:VEVENT
BEGIN:VEVENT
DTEND;TZID=Asia/Novosibirsk;VALUE=DATE-TIME:20260427T163500
DTSTART;TZID=Asia/Novosibirsk;VALUE=DATE-TIME:20260427T150000
DESCRIPTION:Практика\, Пелявин Д.Ю.
SUMMARY:Сетевые технологии высокоскоростной передачи данных
LOCATION:рк 307
END:VEVENT
BEGIN:VEVENT
DTEND;TZID=Asia/Novosibirsk;VALUE=DATE-TIME:20260427T182000
DTSTART;TZID=Asia/Novosibirsk;VALUE=DATE-TIME:20260427T164500
DESCRIPTION:Практика\, Пелявин Д.Ю.
SUMMARY:Сетевые технологии высокоскоростной передачи данных
LOCATION:рк 307
END:VEVENT
BEGIN:VEVENT
DTEND;TZID=Asia/Novosibirsk;VALUE=DATE-TIME:20260428T145000
DTSTART;TZID=Asia/Novosibirsk;VALUE=DATE-TIME:20260428T131500
DESCRIPTION:Зачет с оценкой\, Шарангович С.Н.
SUMMARY:Технологическая практика
LOCATION:рк 337б
END:VEVENT
BEGIN:VEVENT
DTEND;TZID=Asia/Novosibirsk;VALUE=DATE-TIME:20260428T163500
DTSTART;TZID=Asia/Novosibirsk;VALUE=DATE-TIME:20260428T150000
DESCRIPTION:Зачет с оценкой\, Шарангович С.Н.
SUMMARY:Технологическая практика
LOCATION:рк 337б
END:VEVENT
BEGIN:VEVENT
DTEND;TZID=Asia/Novosibirsk;VALUE=DATE-TIME:20260427T200500
DTSTART;TZID=Asia/Novosibirsk;VALUE=DATE-TIME:20260427T183000
DESCRIPTION:Лекция\, Пелявин Д.Ю.
SUMMARY:Сети связи и системы коммутации
LOCATION:рк 318
END:VEVENT
BEGIN:VEVENT
DTEND;TZID=Asia/Novosibirsk;VALUE=DATE-TIME:20260429T121500
DTSTART;TZID=Asia/Novosibirsk;VALUE=DATE-TIME:20260429T104000
DESCRIPTION:Лабораторная работа\, Пелявин Д.Ю.
SUMMARY:Сетевые технологии высокоскоростной передачи данных
LOCATION:рк 309
END:VEVENT
BEGIN:VEVENT
DTEND;TZID=Asia/Novosibirsk;VALUE=DATE-TIME:20260513T121500
DTSTART;TZID=Asia/Novosibirsk;VALUE=DATE-TIME:20260513T104000
DESCRIPTION:Экзамен\, Хатьков Н.Д.
SUMMARY:Оптические направляющие среды
LOCATION:рк 333б
END:VEVENT
BEGIN:VEVENT
DTEND;TZID=Asia/Novosibirsk;VALUE=DATE-TIME:20260514T145000
DTSTART;TZID=Asia/Novosibirsk;VALUE=DATE-TIME:20260514T131500
DESCRIPTION:Зачет с оценкой\, Пелявин Д.Ю.
SUMMARY:Сети связи и системы коммутации
LOCATION:рк 318
END:VEVENT
BEGIN:VEVENT
DTEND;TZID=Asia/Novosibirsk;VALUE=DATE-TIME:20260505T102500
DTSTART;TZID=Asia/Novosibirsk;VALUE=DATE-TIME:20260505T085000
DESCRIPTION:Курсовое проектирование\, защита курсового проекта \, Перин А
 .С.
SUMMARY:Проектирование\, строительство и эксплуатация волоконно-оптически
 х линий связи
LOCATION:рк 337б
END:VEVENT
BEGIN:VEVENT
DTEND;TZID=Asia/Novosibirsk;VALUE=DATE-TIME:20260506T182000
DTSTART;TZID=Asia/Novosibirsk;VALUE=DATE-TIME:20260506T164500
DESCRIPTION:Лабораторная работа\, Хатьков Н.Д.
SUMMARY:Оптические направляющие среды
LOCATION:рк 333б
END:VEVENT
BEGIN:VEVENT
DTEND;TZID=Asia/Novosibirsk;VALUE=DATE-TIME:20260430T163500
DTSTART;TZID=Asia/Novosibirsk;VALUE=DATE-TIME:20260430T150000
DESCRIPTION:Практика\, Хатьков Н.Д.
SUMMARY:Оптические направляющие среды
LOCATION:рк 333б
END:VEVENT
BEGIN:VEVENT
DTEND;TZID=Asia/Novosibirsk;VALUE=DATE-TIME:20260429T102500
DTSTART;TZID=Asia/Novosibirsk;VALUE=DATE-TIME:20260429T085000
DESCRIPTION:Лабораторная работа\, Пелявин Д.Ю.
SUMMARY:Сетевые технологии высокоскоростной передачи данных
LOCATION:рк 309
END:VEVENT
BEGIN:VEVENT
DTEND;TZID=Asia/Novosibirsk;VALUE=DATE-TIME:20260507T163500
DTSTART;TZID=Asia/Novosibirsk;VALUE=DATE-TIME:20260507T150000
DESCRIPTION:Экзамен\, Пелявин Д.Ю.
SUMMARY:Сетевые технологии высокоскоростной передачи данных
LOCATION:рк 418
END:VEVENT
BEGIN:VEVENT
DTEND;TZID=Asia/Novosibirsk;VALUE=DATE-TIME:20260507T200500
DTSTART;TZID=Asia/Novosibirsk;VALUE=DATE-TIME:20260507T183000
DESCRIPTION:Практика\, Пелявин Д.Ю.
SUMMARY:Сети связи и системы коммутации
LOCATION:рк 318
END:VEVENT
BEGIN:VEVENT
DTEND;TZID=Asia/Novosibirsk;VALUE=DATE-TIME:20260511T145000
DTSTART;TZID=Asia/Novosibirsk;VALUE=DATE-TIME:20260511T131500
DESCRIPTION:Лабораторная работа\, Пелявин Д.Ю.
SUMMARY:Сети связи и системы коммутации
LOCATION:рк 318
END:VEVENT
BEGIN:VEVENT
DTEND;TZID=Asia/Novosibirsk;VALUE=DATE-TIME:20260429T145000
DTSTART;TZID=Asia/Novosibirsk;VALUE=DATE-TIME:20260429T131500
DESCRIPTION:Курсовое проектирование\, Перин А.С.
SUMMARY:Проектирование\, строительство и эксплуатация волоконно-оптически
 х линий связи
LOCATION:рк 337б
END:VEVENT
BEGIN:VEVENT
DTEND;TZID=Asia/Novosibirsk;VALUE=DATE-TIME:20260506T163500
DTSTART;TZID=Asia/Novosibirsk;VALUE=DATE-TIME:20260506T150000
DESCRIPTION:Лабораторная работа\, Хатьков Н.Д.
SUMMARY:Оптические направляющие среды
LOCATION:рк 333б
END:VEVENT
BEGIN:VEVENT
DTEND;TZID=Asia/Novosibirsk;VALUE=DATE-TIME:20260507T145000
DTSTART;TZID=Asia/Novosibirsk;VALUE=DATE-TIME:20260507T131500
DESCRIPTION:Экзамен\, Пелявин Д.Ю.
SUMMARY:Сетевые технологии высокоскоростной передачи данных
LOCATION:рк 418
END:VEVENT
BEGIN:VEVENT
DTEND;TZID=Asia/Novosibirsk;VALUE=DATE-TIME:20260511T163500
DTSTART;TZID=Asia/Novosibirsk;VALUE=DATE-TIME:20260511T150000
DESCRIPTION:Лабораторная работа\, Пелявин Д.Ю.
SUMMARY:Сети связи и системы коммутации
LOCATION:рк 318
END:VEVENT
BEGIN:VEVENT
DTEND;TZID=Asia/Novosibirsk;VALUE=DATE-TIME:20260430T182000
DTSTART;TZID=Asia/Novosibirsk;VALUE=DATE-TIME:20260430T164500
DESCRIPTION:Практика\, Долгирев В.
SUMMARY:Оптические цифровые телекоммуникационные системы
LOCATION:рк 333б
END:VEVENT
BEGIN:VEVENT
DTEND;TZID=Asia/Novosibirsk;VALUE=DATE-TIME:20260429T163500
DTSTART;TZID=Asia/Novosibirsk;VALUE=DATE-TIME:20260429T150000
DESCRIPTION:Курсовое проектирование\, Перин А.С.
SUMMARY:Проектирование\, строительство и эксплуатация волоконно-оптически
 х линий связи
LOCATION:рк 337б
END:VEVENT
BEGIN:VEVENT
DTEND;TZID=Asia/Novosibirsk;VALUE=DATE-TIME:20260502T163500
DTSTART;TZID=Asia/Novosibirsk;VALUE=DATE-TIME:20260502T150000
DESCRIPTION:Лабораторная работа\, Хатьков Н.Д.
SUMMARY:Оптические направляющие среды
LOCATION:рк 333б
END:VEVENT
BEGIN:VEVENT
DTEND;TZID=Asia/Novosibirsk;VALUE=DATE-TIME:20260504T163500
DTSTART;TZID=Asia/Novosibirsk;VALUE=DATE-TIME:20260504T150000
DESCRIPTION:Лекция\, Мандель А.Е.
SUMMARY:Метрология в оптических телекоммуникационных системах
LOCATION:рк 333б
END:VEVENT
BEGIN:VEVENT
DTEND;TZID=Asia/Novosibirsk;VALUE=DATE-TIME:20260504T182000
DTSTART;TZID=Asia/Novosibirsk;VALUE=DATE-TIME:20260504T164500
DESCRIPTION:Лекция\, Пелявин Д.Ю.
SUMMARY:Сети связи и системы коммутации
LOCATION:рк 309
END:VEVENT
BEGIN:VEVENT
DTEND;TZID=Asia/Novosibirsk;VALUE=DATE-TIME:20260513T102500
DTSTART;TZID=Asia/Novosibirsk;VALUE=DATE-TIME:20260513T085000
DESCRIPTION:Экзамен\, Хатьков Н.Д.
SUMMARY:Оптические направляющие среды
LOCATION:рк 333б
END:VEVENT
BEGIN:VEVENT
DTEND;TZID=Asia/Novosibirsk;VALUE=DATE-TIME:20260430T145000
DTSTART;TZID=Asia/Novosibirsk;VALUE=DATE-TIME:20260430T131500
DESCRIPTION:Практика\, Хатьков Н.Д.
SUMMARY:Оптические направляющие среды
LOCATION:рк 333б
END:VEVENT
BEGIN:VEVENT
DTEND;TZID=Asia/Novosibirsk;VALUE=DATE-TIME:20260502T102500
DTSTART;TZID=Asia/Novosibirsk;VALUE=DATE-TIME:20260502T085000
DESCRIPTION:Лабораторная работа\, Пелявин Д.Ю.
SUMMARY:Сетевые технологии высокоскоростной передачи данных
LOCATION:рк 309
END:VEVENT
BEGIN:VEVENT
DTEND;TZID=Asia/Novosibirsk;VALUE=DATE-TIME:20260427T121500
DTSTART;TZID=Asia/Novosibirsk;VALUE=DATE-TIME:20260427T104000
DESCRIPTION:Лекция\, Долгирев В.
SUMMARY:Оптические цифровые телекоммуникационные системы
LOCATION:рк 415
END:VEVENT
BEGIN:VEVENT
DTEND;TZID=Asia/Novosibirsk;VALUE=DATE-TIME:20260430T200500
DTSTART;TZID=Asia/Novosibirsk;VALUE=DATE-TIME:20260430T183000
DESCRIPTION:Практика\, Долгирев В.
SUMMARY:Оптические цифровые телекоммуникационные системы
LOCATION:рк 333б
END:VEVENT
BEGIN:VEVENT
DTEND;TZID=Asia/Novosibirsk;VALUE=DATE-TIME:20260502T145000
DTSTART;TZID=Asia/Novosibirsk;VALUE=DATE-TIME:20260502T131500
DESCRIPTION:Лабораторная работа\, Хатьков Н.Д.
SUMMARY:Оптические направляющие среды
LOCATION:рк 333б
END:VEVENT
BEGIN:VEVENT
DTEND;TZID=Asia/Novosibirsk;VALUE=DATE-TIME:20260502T121500
DTSTART;TZID=Asia/Novosibirsk;VALUE=DATE-TIME:20260502T104000
DESCRIPTION:Лабораторная работа\, Пелявин Д.Ю.
SUMMARY:Сетевые технологии высокоскоростной передачи данных
LOCATION:рк 309
END:VEVENT
BEGIN:VEVENT
DTEND;TZID=Asia/Novosibirsk;VALUE=DATE-TIME:20260504T145000
DTSTART;TZID=Asia/Novosibirsk;VALUE=DATE-TIME:20260504T131500
DESCRIPTION:Лекция\, Шарангович С.Н.
SUMMARY:Многоволновые оптические системы связи
LOCATION:рк 329а
END:VEVENT
BEGIN:VEVENT
DTEND;TZID=Asia/Novosibirsk;VALUE=DATE-TIME:20260508T145000
DTSTART;TZID=Asia/Novosibirsk;VALUE=DATE-TIME:20260508T131500
DESCRIPTION:Экзамен\, Долгирев В.
SUMMARY:Оптические цифровые телекоммуникационные системы
LOCATION:рк 333б
END:VEVENT
BEGIN:VEVENT
DTEND;TZID=Asia/Novosibirsk;VALUE=DATE-TIME:20260507T182000
DTSTART;TZID=Asia/Novosibirsk;VALUE=DATE-TIME:20260507T164500
DESCRIPTION:Практика\, Пелявин Д.Ю.
SUMMARY:Сети связи и системы коммутации
LOCATION:рк 318
END:VEVENT
BEGIN:VEVENT
DTEND;TZID=Asia/Novosibirsk;VALUE=DATE-TIME:20260512T182000
DTSTART;TZID=Asia/Novosibirsk;VALUE=DATE-TIME:20260512T164500
DESCRIPTION:Лабораторная работа\, Пелявин Д.Ю.
SUMMARY:Сети связи и системы коммутации
LOCATION:рк 318
END:VEVENT
BEGIN:VEVENT
DTEND;TZID=Asia/Novosibirsk;VALUE=DATE-TIME:20260514T163500
DTSTART;TZID=Asia/Novosibirsk;VALUE=DATE-TIME:20260514T150000
DESCRIPTION:Зачет с оценкой\, Пелявин Д.Ю.
SUMMARY:Сети связи и системы коммутации
LOCATION:рк 318
END:VEVENT
BEGIN:VEVENT
DTEND;TZID=Asia/Novosibirsk;VALUE=DATE-TIME:20260505T121500
DTSTART;TZID=Asia/Novosibirsk;VALUE=DATE-TIME:20260505T104000
DESCRIPTION:Курсовое проектирование\, защита курсового проекта \, Перин А
 .С.
SUMMARY:Проектирование\, строительство и эксплуатация волоконно-оптически
 х линий связи
LOCATION:рк 337б
END:VEVENT
BEGIN:VEVENT
DTEND;TZID=Asia/Novosibirsk;VALUE=DATE-TIME:20260512T163500
DTSTART;TZID=Asia/Novosibirsk;VALUE=DATE-TIME:20260512T150000
DESCRIPTION:Лабораторная работа\, Пелявин Д.Ю.
SUMMARY:Сетевые технологии высокоскоростной передачи данных
LOCATION:рк 318
END:VEVENT
END:VCALENDAR
