BEGIN:VCALENDAR
PRODID;X-RICAL-TZSOURCE=TZINFO:timetable.tusur.ru
CALSCALE:GREGORIAN
VERSION:2.0
BEGIN:VTIMEZONE
TZID;X-RICAL-TZSOURCE=TZINFO:Asia/Novosibirsk
BEGIN:STANDARD
DTSTART:20160724T020000
RDATE:20160724T040000
TZOFFSETFROM:+0600
TZOFFSETTO:+0700
TZNAME:+07
END:STANDARD
END:VTIMEZONE
BEGIN:VEVENT
DTEND;TZID=Asia/Novosibirsk;VALUE=DATE-TIME:20260414T163500
DTSTART;TZID=Asia/Novosibirsk;VALUE=DATE-TIME:20260414T150000
DESCRIPTION:Практика\, Безпалый А.Д.
SUMMARY:Основы физической и квантовой оптики
LOCATION:рк 329а
END:VEVENT
BEGIN:VEVENT
DTEND;TZID=Asia/Novosibirsk;VALUE=DATE-TIME:20260428T163500
DTSTART;TZID=Asia/Novosibirsk;VALUE=DATE-TIME:20260428T150000
DESCRIPTION:Практика\, Безпалый А.Д.
SUMMARY:Основы физической и квантовой оптики
LOCATION:рк 329а
END:VEVENT
BEGIN:VEVENT
DTEND;TZID=Asia/Novosibirsk;VALUE=DATE-TIME:20260512T163500
DTSTART;TZID=Asia/Novosibirsk;VALUE=DATE-TIME:20260512T150000
DESCRIPTION:Практика\, Безпалый А.Д.
SUMMARY:Основы физической и квантовой оптики
LOCATION:рк 329а
END:VEVENT
BEGIN:VEVENT
DTEND;TZID=Asia/Novosibirsk;VALUE=DATE-TIME:20260526T163500
DTSTART;TZID=Asia/Novosibirsk;VALUE=DATE-TIME:20260526T150000
DESCRIPTION:Практика\, Безпалый А.Д.
SUMMARY:Основы физической и квантовой оптики
LOCATION:рк 329а
END:VEVENT
BEGIN:VEVENT
DTEND;TZID=Asia/Novosibirsk;VALUE=DATE-TIME:20260609T163500
DTSTART;TZID=Asia/Novosibirsk;VALUE=DATE-TIME:20260609T150000
DESCRIPTION:Практика\, Безпалый А.Д.
SUMMARY:Основы физической и квантовой оптики
LOCATION:рк 329а
END:VEVENT
BEGIN:VEVENT
DTEND;TZID=Asia/Novosibirsk;VALUE=DATE-TIME:20260414T145000
DTSTART;TZID=Asia/Novosibirsk;VALUE=DATE-TIME:20260414T131500
DESCRIPTION:Лекция\, Безпалый А.Д.
SUMMARY:Основы физической и квантовой оптики
LOCATION:рк 329а
END:VEVENT
BEGIN:VEVENT
DTEND;TZID=Asia/Novosibirsk;VALUE=DATE-TIME:20260428T145000
DTSTART;TZID=Asia/Novosibirsk;VALUE=DATE-TIME:20260428T131500
DESCRIPTION:Лекция\, Безпалый А.Д.
SUMMARY:Основы физической и квантовой оптики
LOCATION:рк 329а
END:VEVENT
BEGIN:VEVENT
DTEND;TZID=Asia/Novosibirsk;VALUE=DATE-TIME:20260512T145000
DTSTART;TZID=Asia/Novosibirsk;VALUE=DATE-TIME:20260512T131500
DESCRIPTION:Лекция\, Безпалый А.Д.
SUMMARY:Основы физической и квантовой оптики
LOCATION:рк 329а
END:VEVENT
BEGIN:VEVENT
DTEND;TZID=Asia/Novosibirsk;VALUE=DATE-TIME:20260526T145000
DTSTART;TZID=Asia/Novosibirsk;VALUE=DATE-TIME:20260526T131500
DESCRIPTION:Лекция\, Безпалый А.Д.
SUMMARY:Основы физической и квантовой оптики
LOCATION:рк 329а
END:VEVENT
BEGIN:VEVENT
DTEND;TZID=Asia/Novosibirsk;VALUE=DATE-TIME:20260609T145000
DTSTART;TZID=Asia/Novosibirsk;VALUE=DATE-TIME:20260609T131500
DESCRIPTION:Лекция\, Безпалый А.Д.
SUMMARY:Основы физической и квантовой оптики
LOCATION:рк 329а
END:VEVENT
BEGIN:VEVENT
DTEND;TZID=Asia/Novosibirsk;VALUE=DATE-TIME:20260416T163500
DTSTART;TZID=Asia/Novosibirsk;VALUE=DATE-TIME:20260416T150000
DESCRIPTION:Практика\, Окунев Д.В.
SUMMARY:Учебно-проектная деятельность (УПД-3)
LOCATION:рк 329а
END:VEVENT
BEGIN:VEVENT
DTEND;TZID=Asia/Novosibirsk;VALUE=DATE-TIME:20260430T163500
DTSTART;TZID=Asia/Novosibirsk;VALUE=DATE-TIME:20260430T150000
DESCRIPTION:Практика\, Окунев Д.В.
SUMMARY:Учебно-проектная деятельность (УПД-3)
LOCATION:рк 329а
END:VEVENT
BEGIN:VEVENT
DTEND;TZID=Asia/Novosibirsk;VALUE=DATE-TIME:20260514T163500
DTSTART;TZID=Asia/Novosibirsk;VALUE=DATE-TIME:20260514T150000
DESCRIPTION:Практика\, Окунев Д.В.
SUMMARY:Учебно-проектная деятельность (УПД-3)
LOCATION:рк 329а
END:VEVENT
BEGIN:VEVENT
DTEND;TZID=Asia/Novosibirsk;VALUE=DATE-TIME:20260528T163500
DTSTART;TZID=Asia/Novosibirsk;VALUE=DATE-TIME:20260528T150000
DESCRIPTION:Практика\, Окунев Д.В.
SUMMARY:Учебно-проектная деятельность (УПД-3)
LOCATION:рк 329а
END:VEVENT
BEGIN:VEVENT
DTEND;TZID=Asia/Novosibirsk;VALUE=DATE-TIME:20260611T163500
DTSTART;TZID=Asia/Novosibirsk;VALUE=DATE-TIME:20260611T150000
DESCRIPTION:Практика\, Окунев Д.В.
SUMMARY:Учебно-проектная деятельность (УПД-3)
LOCATION:рк 329а
END:VEVENT
BEGIN:VEVENT
DTEND;TZID=Asia/Novosibirsk;VALUE=DATE-TIME:20260416T145000
DTSTART;TZID=Asia/Novosibirsk;VALUE=DATE-TIME:20260416T131500
DESCRIPTION:Практика\, Окунев Д.В.
SUMMARY:Учебно-проектная деятельность (УПД-3)
LOCATION:рк 329а
END:VEVENT
BEGIN:VEVENT
DTEND;TZID=Asia/Novosibirsk;VALUE=DATE-TIME:20260430T145000
DTSTART;TZID=Asia/Novosibirsk;VALUE=DATE-TIME:20260430T131500
DESCRIPTION:Практика\, Окунев Д.В.
SUMMARY:Учебно-проектная деятельность (УПД-3)
LOCATION:рк 329а
END:VEVENT
BEGIN:VEVENT
DTEND;TZID=Asia/Novosibirsk;VALUE=DATE-TIME:20260514T145000
DTSTART;TZID=Asia/Novosibirsk;VALUE=DATE-TIME:20260514T131500
DESCRIPTION:Практика\, Окунев Д.В.
SUMMARY:Учебно-проектная деятельность (УПД-3)
LOCATION:рк 329а
END:VEVENT
BEGIN:VEVENT
DTEND;TZID=Asia/Novosibirsk;VALUE=DATE-TIME:20260528T145000
DTSTART;TZID=Asia/Novosibirsk;VALUE=DATE-TIME:20260528T131500
DESCRIPTION:Практика\, Окунев Д.В.
SUMMARY:Учебно-проектная деятельность (УПД-3)
LOCATION:рк 329а
END:VEVENT
BEGIN:VEVENT
DTEND;TZID=Asia/Novosibirsk;VALUE=DATE-TIME:20260611T145000
DTSTART;TZID=Asia/Novosibirsk;VALUE=DATE-TIME:20260611T131500
DESCRIPTION:Практика\, Окунев Д.В.
SUMMARY:Учебно-проектная деятельность (УПД-3)
LOCATION:рк 329а
END:VEVENT
BEGIN:VEVENT
DTEND;TZID=Asia/Novosibirsk;VALUE=DATE-TIME:20260424T145000
DTSTART;TZID=Asia/Novosibirsk;VALUE=DATE-TIME:20260424T131500
DESCRIPTION:Курсовое проектирование\, Перин А.С.
SUMMARY:Проектирование\, строительство и эксплуатация волоконно-оптически
 х линий связи
LOCATION:рк 337б
END:VEVENT
BEGIN:VEVENT
DTEND;TZID=Asia/Novosibirsk;VALUE=DATE-TIME:20260508T145000
DTSTART;TZID=Asia/Novosibirsk;VALUE=DATE-TIME:20260508T131500
DESCRIPTION:Курсовое проектирование\, Перин А.С.
SUMMARY:Проектирование\, строительство и эксплуатация волоконно-оптически
 х линий связи
LOCATION:рк 337б
END:VEVENT
BEGIN:VEVENT
DTEND;TZID=Asia/Novosibirsk;VALUE=DATE-TIME:20260522T145000
DTSTART;TZID=Asia/Novosibirsk;VALUE=DATE-TIME:20260522T131500
DESCRIPTION:Курсовое проектирование\, Перин А.С.
SUMMARY:Проектирование\, строительство и эксплуатация волоконно-оптически
 х линий связи
LOCATION:рк 337б
END:VEVENT
BEGIN:VEVENT
DTEND;TZID=Asia/Novosibirsk;VALUE=DATE-TIME:20260605T145000
DTSTART;TZID=Asia/Novosibirsk;VALUE=DATE-TIME:20260605T131500
DESCRIPTION:Курсовое проектирование\, Перин А.С.
SUMMARY:Проектирование\, строительство и эксплуатация волоконно-оптически
 х линий связи
LOCATION:рк 337б
END:VEVENT
BEGIN:VEVENT
DTEND;TZID=Asia/Novosibirsk;VALUE=DATE-TIME:20260423T163500
DTSTART;TZID=Asia/Novosibirsk;VALUE=DATE-TIME:20260423T150000
DESCRIPTION:Практика\, Окунев Д.В.
SUMMARY:Учебно-проектная деятельность (УПД-3)
LOCATION:рк 337б
END:VEVENT
BEGIN:VEVENT
DTEND;TZID=Asia/Novosibirsk;VALUE=DATE-TIME:20260507T163500
DTSTART;TZID=Asia/Novosibirsk;VALUE=DATE-TIME:20260507T150000
DESCRIPTION:Практика\, Окунев Д.В.
SUMMARY:Учебно-проектная деятельность (УПД-3)
LOCATION:рк 337б
END:VEVENT
BEGIN:VEVENT
DTEND;TZID=Asia/Novosibirsk;VALUE=DATE-TIME:20260521T163500
DTSTART;TZID=Asia/Novosibirsk;VALUE=DATE-TIME:20260521T150000
DESCRIPTION:Практика\, Окунев Д.В.
SUMMARY:Учебно-проектная деятельность (УПД-3)
LOCATION:рк 337б
END:VEVENT
BEGIN:VEVENT
DTEND;TZID=Asia/Novosibirsk;VALUE=DATE-TIME:20260604T163500
DTSTART;TZID=Asia/Novosibirsk;VALUE=DATE-TIME:20260604T150000
DESCRIPTION:Практика\, Окунев Д.В.
SUMMARY:Учебно-проектная деятельность (УПД-3)
LOCATION:рк 337б
END:VEVENT
BEGIN:VEVENT
DTEND;TZID=Asia/Novosibirsk;VALUE=DATE-TIME:20260423T145000
DTSTART;TZID=Asia/Novosibirsk;VALUE=DATE-TIME:20260423T131500
DESCRIPTION:Практика\, Окунев Д.В.
SUMMARY:Учебно-проектная деятельность (УПД-3)
LOCATION:рк 337б
END:VEVENT
BEGIN:VEVENT
DTEND;TZID=Asia/Novosibirsk;VALUE=DATE-TIME:20260507T145000
DTSTART;TZID=Asia/Novosibirsk;VALUE=DATE-TIME:20260507T131500
DESCRIPTION:Практика\, Окунев Д.В.
SUMMARY:Учебно-проектная деятельность (УПД-3)
LOCATION:рк 337б
END:VEVENT
BEGIN:VEVENT
DTEND;TZID=Asia/Novosibirsk;VALUE=DATE-TIME:20260521T145000
DTSTART;TZID=Asia/Novosibirsk;VALUE=DATE-TIME:20260521T131500
DESCRIPTION:Практика\, Окунев Д.В.
SUMMARY:Учебно-проектная деятельность (УПД-3)
LOCATION:рк 337б
END:VEVENT
BEGIN:VEVENT
DTEND;TZID=Asia/Novosibirsk;VALUE=DATE-TIME:20260604T145000
DTSTART;TZID=Asia/Novosibirsk;VALUE=DATE-TIME:20260604T131500
DESCRIPTION:Практика\, Окунев Д.В.
SUMMARY:Учебно-проектная деятельность (УПД-3)
LOCATION:рк 337б
END:VEVENT
BEGIN:VEVENT
DTEND;TZID=Asia/Novosibirsk;VALUE=DATE-TIME:20260415T215000
DTSTART;TZID=Asia/Novosibirsk;VALUE=DATE-TIME:20260415T201500
DESCRIPTION:Практика\, в ЭИОС\, Мигурская А.С.
SUMMARY:История России
LOCATION:
END:VEVENT
BEGIN:VEVENT
DTEND;TZID=Asia/Novosibirsk;VALUE=DATE-TIME:20260429T215000
DTSTART;TZID=Asia/Novosibirsk;VALUE=DATE-TIME:20260429T201500
DESCRIPTION:Практика\, в ЭИОС\, Мигурская А.С.
SUMMARY:История России
LOCATION:
END:VEVENT
BEGIN:VEVENT
DTEND;TZID=Asia/Novosibirsk;VALUE=DATE-TIME:20260513T215000
DTSTART;TZID=Asia/Novosibirsk;VALUE=DATE-TIME:20260513T201500
DESCRIPTION:Практика\, в ЭИОС\, Мигурская А.С.
SUMMARY:История России
LOCATION:
END:VEVENT
BEGIN:VEVENT
DTEND;TZID=Asia/Novosibirsk;VALUE=DATE-TIME:20260527T215000
DTSTART;TZID=Asia/Novosibirsk;VALUE=DATE-TIME:20260527T201500
DESCRIPTION:Практика\, в ЭИОС\, Мигурская А.С.
SUMMARY:История России
LOCATION:
END:VEVENT
BEGIN:VEVENT
DTEND;TZID=Asia/Novosibirsk;VALUE=DATE-TIME:20260610T215000
DTSTART;TZID=Asia/Novosibirsk;VALUE=DATE-TIME:20260610T201500
DESCRIPTION:Практика\, в ЭИОС\, Мигурская А.С.
SUMMARY:История России
LOCATION:
END:VEVENT
BEGIN:VEVENT
DTEND;TZID=Asia/Novosibirsk;VALUE=DATE-TIME:20260425T215000
DTSTART;TZID=Asia/Novosibirsk;VALUE=DATE-TIME:20260425T201500
DESCRIPTION:Практика\, в ЭИОС\, Мигурская А.С.
SUMMARY:История России
LOCATION:
END:VEVENT
BEGIN:VEVENT
DTEND;TZID=Asia/Novosibirsk;VALUE=DATE-TIME:20260509T215000
DTSTART;TZID=Asia/Novosibirsk;VALUE=DATE-TIME:20260509T201500
DESCRIPTION:Практика\, в ЭИОС\, Мигурская А.С.
SUMMARY:История России
LOCATION:
END:VEVENT
BEGIN:VEVENT
DTEND;TZID=Asia/Novosibirsk;VALUE=DATE-TIME:20260523T215000
DTSTART;TZID=Asia/Novosibirsk;VALUE=DATE-TIME:20260523T201500
DESCRIPTION:Практика\, в ЭИОС\, Мигурская А.С.
SUMMARY:История России
LOCATION:
END:VEVENT
BEGIN:VEVENT
DTEND;TZID=Asia/Novosibirsk;VALUE=DATE-TIME:20260606T215000
DTSTART;TZID=Asia/Novosibirsk;VALUE=DATE-TIME:20260606T201500
DESCRIPTION:Практика\, в ЭИОС\, Мигурская А.С.
SUMMARY:История России
LOCATION:
END:VEVENT
BEGIN:VEVENT
DTEND;TZID=Asia/Novosibirsk;VALUE=DATE-TIME:20260425T163500
DTSTART;TZID=Asia/Novosibirsk;VALUE=DATE-TIME:20260425T150000
DESCRIPTION:Лекция\, реализуется в эиос\, Берсенев М.В.
SUMMARY:История России
LOCATION:
END:VEVENT
BEGIN:VEVENT
DTEND;TZID=Asia/Novosibirsk;VALUE=DATE-TIME:20260509T163500
DTSTART;TZID=Asia/Novosibirsk;VALUE=DATE-TIME:20260509T150000
DESCRIPTION:Лекция\, реализуется в эиос\, Берсенев М.В.
SUMMARY:История России
LOCATION:
END:VEVENT
BEGIN:VEVENT
DTEND;TZID=Asia/Novosibirsk;VALUE=DATE-TIME:20260523T163500
DTSTART;TZID=Asia/Novosibirsk;VALUE=DATE-TIME:20260523T150000
DESCRIPTION:Лекция\, реализуется в эиос\, Берсенев М.В.
SUMMARY:История России
LOCATION:
END:VEVENT
BEGIN:VEVENT
DTEND;TZID=Asia/Novosibirsk;VALUE=DATE-TIME:20260606T163500
DTSTART;TZID=Asia/Novosibirsk;VALUE=DATE-TIME:20260606T150000
DESCRIPTION:Лекция\, реализуется в эиос\, Берсенев М.В.
SUMMARY:История России
LOCATION:
END:VEVENT
BEGIN:VEVENT
DTEND;TZID=Asia/Novosibirsk;VALUE=DATE-TIME:20260421T182000
DTSTART;TZID=Asia/Novosibirsk;VALUE=DATE-TIME:20260421T164500
DESCRIPTION:Лабораторная работа\, Растрыгин Д.
SUMMARY:Основы физической и квантовой оптики
LOCATION:рк 329а
END:VEVENT
BEGIN:VEVENT
DTEND;TZID=Asia/Novosibirsk;VALUE=DATE-TIME:20260505T182000
DTSTART;TZID=Asia/Novosibirsk;VALUE=DATE-TIME:20260505T164500
DESCRIPTION:Лабораторная работа\, Растрыгин Д.
SUMMARY:Основы физической и квантовой оптики
LOCATION:рк 329а
END:VEVENT
BEGIN:VEVENT
DTEND;TZID=Asia/Novosibirsk;VALUE=DATE-TIME:20260519T182000
DTSTART;TZID=Asia/Novosibirsk;VALUE=DATE-TIME:20260519T164500
DESCRIPTION:Лабораторная работа\, Растрыгин Д.
SUMMARY:Основы физической и квантовой оптики
LOCATION:рк 329а
END:VEVENT
BEGIN:VEVENT
DTEND;TZID=Asia/Novosibirsk;VALUE=DATE-TIME:20260421T163500
DTSTART;TZID=Asia/Novosibirsk;VALUE=DATE-TIME:20260421T150000
DESCRIPTION:Лабораторная работа\, Растрыгин Д.
SUMMARY:Основы физической и квантовой оптики
LOCATION:рк 329а
END:VEVENT
BEGIN:VEVENT
DTEND;TZID=Asia/Novosibirsk;VALUE=DATE-TIME:20260505T163500
DTSTART;TZID=Asia/Novosibirsk;VALUE=DATE-TIME:20260505T150000
DESCRIPTION:Лабораторная работа\, Растрыгин Д.
SUMMARY:Основы физической и квантовой оптики
LOCATION:рк 329а
END:VEVENT
BEGIN:VEVENT
DTEND;TZID=Asia/Novosibirsk;VALUE=DATE-TIME:20260519T163500
DTSTART;TZID=Asia/Novosibirsk;VALUE=DATE-TIME:20260519T150000
DESCRIPTION:Лабораторная работа\, Растрыгин Д.
SUMMARY:Основы физической и квантовой оптики
LOCATION:рк 329а
END:VEVENT
END:VCALENDAR
