BEGIN:VCALENDAR
PRODID;X-RICAL-TZSOURCE=TZINFO:timetable.tusur.ru
CALSCALE:GREGORIAN
VERSION:2.0
BEGIN:VTIMEZONE
TZID;X-RICAL-TZSOURCE=TZINFO:Asia/Novosibirsk
BEGIN:STANDARD
DTSTART:20160724T020000
RDATE:20160724T040000
TZOFFSETFROM:+0600
TZOFFSETTO:+0700
TZNAME:+07
END:STANDARD
END:VTIMEZONE
BEGIN:VEVENT
DTEND;TZID=Asia/Novosibirsk;VALUE=DATE-TIME:20260413T163500
DTSTART;TZID=Asia/Novosibirsk;VALUE=DATE-TIME:20260413T150000
DESCRIPTION:Практика\, Безходарнов И.В.
SUMMARY:Управление проектами
LOCATION:рк 229/1\, рк 229/2
END:VEVENT
BEGIN:VEVENT
DTEND;TZID=Asia/Novosibirsk;VALUE=DATE-TIME:20260427T163500
DTSTART;TZID=Asia/Novosibirsk;VALUE=DATE-TIME:20260427T150000
DESCRIPTION:Практика\, Безходарнов И.В.
SUMMARY:Управление проектами
LOCATION:рк 229/1\, рк 229/2
END:VEVENT
BEGIN:VEVENT
DTEND;TZID=Asia/Novosibirsk;VALUE=DATE-TIME:20260511T163500
DTSTART;TZID=Asia/Novosibirsk;VALUE=DATE-TIME:20260511T150000
DESCRIPTION:Практика\, Безходарнов И.В.
SUMMARY:Управление проектами
LOCATION:рк 229/1\, рк 229/2
END:VEVENT
BEGIN:VEVENT
DTEND;TZID=Asia/Novosibirsk;VALUE=DATE-TIME:20260525T163500
DTSTART;TZID=Asia/Novosibirsk;VALUE=DATE-TIME:20260525T150000
DESCRIPTION:Практика\, Безходарнов И.В.
SUMMARY:Управление проектами
LOCATION:рк 229/1\, рк 229/2
END:VEVENT
BEGIN:VEVENT
DTEND;TZID=Asia/Novosibirsk;VALUE=DATE-TIME:20260608T163500
DTSTART;TZID=Asia/Novosibirsk;VALUE=DATE-TIME:20260608T150000
DESCRIPTION:Практика\, Безходарнов И.В.
SUMMARY:Управление проектами
LOCATION:рк 229/1\, рк 229/2
END:VEVENT
BEGIN:VEVENT
DTEND;TZID=Asia/Novosibirsk;VALUE=DATE-TIME:20260418T145000
DTSTART;TZID=Asia/Novosibirsk;VALUE=DATE-TIME:20260418T131500
DESCRIPTION:Практика\, реализуется в эиос\, Артемов Д.Е.
SUMMARY:Моделирование устройств на основе ФИС
LOCATION:
END:VEVENT
BEGIN:VEVENT
DTEND;TZID=Asia/Novosibirsk;VALUE=DATE-TIME:20260502T145000
DTSTART;TZID=Asia/Novosibirsk;VALUE=DATE-TIME:20260502T131500
DESCRIPTION:Практика\, реализуется в эиос\, Артемов Д.Е.
SUMMARY:Моделирование устройств на основе ФИС
LOCATION:
END:VEVENT
BEGIN:VEVENT
DTEND;TZID=Asia/Novosibirsk;VALUE=DATE-TIME:20260516T145000
DTSTART;TZID=Asia/Novosibirsk;VALUE=DATE-TIME:20260516T131500
DESCRIPTION:Практика\, реализуется в эиос\, Артемов Д.Е.
SUMMARY:Моделирование устройств на основе ФИС
LOCATION:
END:VEVENT
BEGIN:VEVENT
DTEND;TZID=Asia/Novosibirsk;VALUE=DATE-TIME:20260530T145000
DTSTART;TZID=Asia/Novosibirsk;VALUE=DATE-TIME:20260530T131500
DESCRIPTION:Практика\, реализуется в эиос\, Артемов Д.Е.
SUMMARY:Моделирование устройств на основе ФИС
LOCATION:
END:VEVENT
BEGIN:VEVENT
DTEND;TZID=Asia/Novosibirsk;VALUE=DATE-TIME:20260613T145000
DTSTART;TZID=Asia/Novosibirsk;VALUE=DATE-TIME:20260613T131500
DESCRIPTION:Практика\, реализуется в эиос\, Артемов Д.Е.
SUMMARY:Моделирование устройств на основе ФИС
LOCATION:
END:VEVENT
BEGIN:VEVENT
DTEND;TZID=Asia/Novosibirsk;VALUE=DATE-TIME:20260425T145000
DTSTART;TZID=Asia/Novosibirsk;VALUE=DATE-TIME:20260425T131500
DESCRIPTION:Практика\, реализуется в эиос\, Артемов Д.Е.
SUMMARY:Моделирование устройств на основе ФИС
LOCATION:
END:VEVENT
BEGIN:VEVENT
DTEND;TZID=Asia/Novosibirsk;VALUE=DATE-TIME:20260509T145000
DTSTART;TZID=Asia/Novosibirsk;VALUE=DATE-TIME:20260509T131500
DESCRIPTION:Практика\, реализуется в эиос\, Артемов Д.Е.
SUMMARY:Моделирование устройств на основе ФИС
LOCATION:
END:VEVENT
BEGIN:VEVENT
DTEND;TZID=Asia/Novosibirsk;VALUE=DATE-TIME:20260523T145000
DTSTART;TZID=Asia/Novosibirsk;VALUE=DATE-TIME:20260523T131500
DESCRIPTION:Практика\, реализуется в эиос\, Артемов Д.Е.
SUMMARY:Моделирование устройств на основе ФИС
LOCATION:
END:VEVENT
BEGIN:VEVENT
DTEND;TZID=Asia/Novosibirsk;VALUE=DATE-TIME:20260606T145000
DTSTART;TZID=Asia/Novosibirsk;VALUE=DATE-TIME:20260606T131500
DESCRIPTION:Практика\, реализуется в эиос\, Артемов Д.Е.
SUMMARY:Моделирование устройств на основе ФИС
LOCATION:
END:VEVENT
BEGIN:VEVENT
DTEND;TZID=Asia/Novosibirsk;VALUE=DATE-TIME:20260417T102500
DTSTART;TZID=Asia/Novosibirsk;VALUE=DATE-TIME:20260417T085000
DESCRIPTION:Лекция\, Маслова Ю.В.
SUMMARY:Мировые тренды исследований и разработок (семинары)
LOCATION:рк 229/1\, рк 229/2
END:VEVENT
BEGIN:VEVENT
DTEND;TZID=Asia/Novosibirsk;VALUE=DATE-TIME:20260501T102500
DTSTART;TZID=Asia/Novosibirsk;VALUE=DATE-TIME:20260501T085000
DESCRIPTION:Лекция\, Маслова Ю.В.
SUMMARY:Мировые тренды исследований и разработок (семинары)
LOCATION:рк 229/1\, рк 229/2
END:VEVENT
BEGIN:VEVENT
DTEND;TZID=Asia/Novosibirsk;VALUE=DATE-TIME:20260515T102500
DTSTART;TZID=Asia/Novosibirsk;VALUE=DATE-TIME:20260515T085000
DESCRIPTION:Лекция\, Маслова Ю.В.
SUMMARY:Мировые тренды исследований и разработок (семинары)
LOCATION:рк 229/1\, рк 229/2
END:VEVENT
BEGIN:VEVENT
DTEND;TZID=Asia/Novosibirsk;VALUE=DATE-TIME:20260529T102500
DTSTART;TZID=Asia/Novosibirsk;VALUE=DATE-TIME:20260529T085000
DESCRIPTION:Лекция\, Маслова Ю.В.
SUMMARY:Мировые тренды исследований и разработок (семинары)
LOCATION:рк 229/1\, рк 229/2
END:VEVENT
BEGIN:VEVENT
DTEND;TZID=Asia/Novosibirsk;VALUE=DATE-TIME:20260612T102500
DTSTART;TZID=Asia/Novosibirsk;VALUE=DATE-TIME:20260612T085000
DESCRIPTION:Лекция\, Маслова Ю.В.
SUMMARY:Мировые тренды исследований и разработок (семинары)
LOCATION:рк 229/1\, рк 229/2
END:VEVENT
BEGIN:VEVENT
DTEND;TZID=Asia/Novosibirsk;VALUE=DATE-TIME:20260420T163500
DTSTART;TZID=Asia/Novosibirsk;VALUE=DATE-TIME:20260420T150000
DESCRIPTION:Практика\, Безходарнов И.В.
SUMMARY:Управление проектами
LOCATION:рк 229/1\, рк 229/2
END:VEVENT
BEGIN:VEVENT
DTEND;TZID=Asia/Novosibirsk;VALUE=DATE-TIME:20260504T163500
DTSTART;TZID=Asia/Novosibirsk;VALUE=DATE-TIME:20260504T150000
DESCRIPTION:Практика\, Безходарнов И.В.
SUMMARY:Управление проектами
LOCATION:рк 229/1\, рк 229/2
END:VEVENT
BEGIN:VEVENT
DTEND;TZID=Asia/Novosibirsk;VALUE=DATE-TIME:20260518T163500
DTSTART;TZID=Asia/Novosibirsk;VALUE=DATE-TIME:20260518T150000
DESCRIPTION:Практика\, Безходарнов И.В.
SUMMARY:Управление проектами
LOCATION:рк 229/1\, рк 229/2
END:VEVENT
BEGIN:VEVENT
DTEND;TZID=Asia/Novosibirsk;VALUE=DATE-TIME:20260601T163500
DTSTART;TZID=Asia/Novosibirsk;VALUE=DATE-TIME:20260601T150000
DESCRIPTION:Практика\, Безходарнов И.В.
SUMMARY:Управление проектами
LOCATION:рк 229/1\, рк 229/2
END:VEVENT
BEGIN:VEVENT
DTEND;TZID=Asia/Novosibirsk;VALUE=DATE-TIME:20260420T182000
DTSTART;TZID=Asia/Novosibirsk;VALUE=DATE-TIME:20260420T164500
DESCRIPTION:Практика\, Маслова Ю.В.
SUMMARY:Методология научных исследований и разработок
LOCATION:рк 224/1
END:VEVENT
BEGIN:VEVENT
DTEND;TZID=Asia/Novosibirsk;VALUE=DATE-TIME:20260504T182000
DTSTART;TZID=Asia/Novosibirsk;VALUE=DATE-TIME:20260504T164500
DESCRIPTION:Практика\, Маслова Ю.В.
SUMMARY:Методология научных исследований и разработок
LOCATION:рк 224/1
END:VEVENT
BEGIN:VEVENT
DTEND;TZID=Asia/Novosibirsk;VALUE=DATE-TIME:20260518T182000
DTSTART;TZID=Asia/Novosibirsk;VALUE=DATE-TIME:20260518T164500
DESCRIPTION:Практика\, Маслова Ю.В.
SUMMARY:Методология научных исследований и разработок
LOCATION:рк 224/1
END:VEVENT
BEGIN:VEVENT
DTEND;TZID=Asia/Novosibirsk;VALUE=DATE-TIME:20260601T182000
DTSTART;TZID=Asia/Novosibirsk;VALUE=DATE-TIME:20260601T164500
DESCRIPTION:Практика\, Маслова Ю.В.
SUMMARY:Методология научных исследований и разработок
LOCATION:рк 224/1
END:VEVENT
BEGIN:VEVENT
DTEND;TZID=Asia/Novosibirsk;VALUE=DATE-TIME:20260505T145000
DTSTART;TZID=Asia/Novosibirsk;VALUE=DATE-TIME:20260505T131500
DESCRIPTION:Практика\, Перин А.С.
SUMMARY:Проектно-конструкторская практика (рассред.)
LOCATION:рк 226/1
END:VEVENT
BEGIN:VEVENT
DTEND;TZID=Asia/Novosibirsk;VALUE=DATE-TIME:20260602T145000
DTSTART;TZID=Asia/Novosibirsk;VALUE=DATE-TIME:20260602T131500
DESCRIPTION:Практика\, Перин А.С.
SUMMARY:Проектно-конструкторская практика (рассред.)
LOCATION:рк 226/1
END:VEVENT
BEGIN:VEVENT
DTEND;TZID=Asia/Novosibirsk;VALUE=DATE-TIME:20260416T182000
DTSTART;TZID=Asia/Novosibirsk;VALUE=DATE-TIME:20260416T164500
DESCRIPTION:Практика\, 
SUMMARY:Цифровая кафедра
LOCATION:
END:VEVENT
BEGIN:VEVENT
DTEND;TZID=Asia/Novosibirsk;VALUE=DATE-TIME:20260430T182000
DTSTART;TZID=Asia/Novosibirsk;VALUE=DATE-TIME:20260430T164500
DESCRIPTION:Практика\, 
SUMMARY:Цифровая кафедра
LOCATION:
END:VEVENT
BEGIN:VEVENT
DTEND;TZID=Asia/Novosibirsk;VALUE=DATE-TIME:20260514T182000
DTSTART;TZID=Asia/Novosibirsk;VALUE=DATE-TIME:20260514T164500
DESCRIPTION:Практика\, 
SUMMARY:Цифровая кафедра
LOCATION:
END:VEVENT
BEGIN:VEVENT
DTEND;TZID=Asia/Novosibirsk;VALUE=DATE-TIME:20260528T182000
DTSTART;TZID=Asia/Novosibirsk;VALUE=DATE-TIME:20260528T164500
DESCRIPTION:Практика\, 
SUMMARY:Цифровая кафедра
LOCATION:
END:VEVENT
BEGIN:VEVENT
DTEND;TZID=Asia/Novosibirsk;VALUE=DATE-TIME:20260611T182000
DTSTART;TZID=Asia/Novosibirsk;VALUE=DATE-TIME:20260611T164500
DESCRIPTION:Практика\, 
SUMMARY:Цифровая кафедра
LOCATION:
END:VEVENT
BEGIN:VEVENT
DTEND;TZID=Asia/Novosibirsk;VALUE=DATE-TIME:20260416T163500
DTSTART;TZID=Asia/Novosibirsk;VALUE=DATE-TIME:20260416T150000
DESCRIPTION:Практика\, 
SUMMARY:Цифровая кафедра
LOCATION:
END:VEVENT
BEGIN:VEVENT
DTEND;TZID=Asia/Novosibirsk;VALUE=DATE-TIME:20260430T163500
DTSTART;TZID=Asia/Novosibirsk;VALUE=DATE-TIME:20260430T150000
DESCRIPTION:Практика\, 
SUMMARY:Цифровая кафедра
LOCATION:
END:VEVENT
BEGIN:VEVENT
DTEND;TZID=Asia/Novosibirsk;VALUE=DATE-TIME:20260514T163500
DTSTART;TZID=Asia/Novosibirsk;VALUE=DATE-TIME:20260514T150000
DESCRIPTION:Практика\, 
SUMMARY:Цифровая кафедра
LOCATION:
END:VEVENT
BEGIN:VEVENT
DTEND;TZID=Asia/Novosibirsk;VALUE=DATE-TIME:20260528T163500
DTSTART;TZID=Asia/Novosibirsk;VALUE=DATE-TIME:20260528T150000
DESCRIPTION:Практика\, 
SUMMARY:Цифровая кафедра
LOCATION:
END:VEVENT
BEGIN:VEVENT
DTEND;TZID=Asia/Novosibirsk;VALUE=DATE-TIME:20260611T163500
DTSTART;TZID=Asia/Novosibirsk;VALUE=DATE-TIME:20260611T150000
DESCRIPTION:Практика\, 
SUMMARY:Цифровая кафедра
LOCATION:
END:VEVENT
BEGIN:VEVENT
DTEND;TZID=Asia/Novosibirsk;VALUE=DATE-TIME:20260416T200500
DTSTART;TZID=Asia/Novosibirsk;VALUE=DATE-TIME:20260416T183000
DESCRIPTION:Практика\, 
SUMMARY:Цифровая кафедра
LOCATION:
END:VEVENT
BEGIN:VEVENT
DTEND;TZID=Asia/Novosibirsk;VALUE=DATE-TIME:20260430T200500
DTSTART;TZID=Asia/Novosibirsk;VALUE=DATE-TIME:20260430T183000
DESCRIPTION:Практика\, 
SUMMARY:Цифровая кафедра
LOCATION:
END:VEVENT
BEGIN:VEVENT
DTEND;TZID=Asia/Novosibirsk;VALUE=DATE-TIME:20260514T200500
DTSTART;TZID=Asia/Novosibirsk;VALUE=DATE-TIME:20260514T183000
DESCRIPTION:Практика\, 
SUMMARY:Цифровая кафедра
LOCATION:
END:VEVENT
BEGIN:VEVENT
DTEND;TZID=Asia/Novosibirsk;VALUE=DATE-TIME:20260528T200500
DTSTART;TZID=Asia/Novosibirsk;VALUE=DATE-TIME:20260528T183000
DESCRIPTION:Практика\, 
SUMMARY:Цифровая кафедра
LOCATION:
END:VEVENT
BEGIN:VEVENT
DTEND;TZID=Asia/Novosibirsk;VALUE=DATE-TIME:20260611T200500
DTSTART;TZID=Asia/Novosibirsk;VALUE=DATE-TIME:20260611T183000
DESCRIPTION:Практика\, 
SUMMARY:Цифровая кафедра
LOCATION:
END:VEVENT
BEGIN:VEVENT
DTEND;TZID=Asia/Novosibirsk;VALUE=DATE-TIME:20260423T163500
DTSTART;TZID=Asia/Novosibirsk;VALUE=DATE-TIME:20260423T150000
DESCRIPTION:Лекция\, 
SUMMARY:Цифровая кафедра
LOCATION:
END:VEVENT
BEGIN:VEVENT
DTEND;TZID=Asia/Novosibirsk;VALUE=DATE-TIME:20260507T163500
DTSTART;TZID=Asia/Novosibirsk;VALUE=DATE-TIME:20260507T150000
DESCRIPTION:Лекция\, 
SUMMARY:Цифровая кафедра
LOCATION:
END:VEVENT
BEGIN:VEVENT
DTEND;TZID=Asia/Novosibirsk;VALUE=DATE-TIME:20260521T163500
DTSTART;TZID=Asia/Novosibirsk;VALUE=DATE-TIME:20260521T150000
DESCRIPTION:Лекция\, 
SUMMARY:Цифровая кафедра
LOCATION:
END:VEVENT
BEGIN:VEVENT
DTEND;TZID=Asia/Novosibirsk;VALUE=DATE-TIME:20260604T163500
DTSTART;TZID=Asia/Novosibirsk;VALUE=DATE-TIME:20260604T150000
DESCRIPTION:Лекция\, 
SUMMARY:Цифровая кафедра
LOCATION:
END:VEVENT
BEGIN:VEVENT
DTEND;TZID=Asia/Novosibirsk;VALUE=DATE-TIME:20260423T182000
DTSTART;TZID=Asia/Novosibirsk;VALUE=DATE-TIME:20260423T164500
DESCRIPTION:Лекция\, 
SUMMARY:Цифровая кафедра
LOCATION:
END:VEVENT
BEGIN:VEVENT
DTEND;TZID=Asia/Novosibirsk;VALUE=DATE-TIME:20260507T182000
DTSTART;TZID=Asia/Novosibirsk;VALUE=DATE-TIME:20260507T164500
DESCRIPTION:Лекция\, 
SUMMARY:Цифровая кафедра
LOCATION:
END:VEVENT
BEGIN:VEVENT
DTEND;TZID=Asia/Novosibirsk;VALUE=DATE-TIME:20260521T182000
DTSTART;TZID=Asia/Novosibirsk;VALUE=DATE-TIME:20260521T164500
DESCRIPTION:Лекция\, 
SUMMARY:Цифровая кафедра
LOCATION:
END:VEVENT
BEGIN:VEVENT
DTEND;TZID=Asia/Novosibirsk;VALUE=DATE-TIME:20260604T182000
DTSTART;TZID=Asia/Novosibirsk;VALUE=DATE-TIME:20260604T164500
DESCRIPTION:Лекция\, 
SUMMARY:Цифровая кафедра
LOCATION:
END:VEVENT
BEGIN:VEVENT
DTEND;TZID=Asia/Novosibirsk;VALUE=DATE-TIME:20260423T200500
DTSTART;TZID=Asia/Novosibirsk;VALUE=DATE-TIME:20260423T183000
DESCRIPTION:Лекция\, 
SUMMARY:Цифровая кафедра
LOCATION:
END:VEVENT
BEGIN:VEVENT
DTEND;TZID=Asia/Novosibirsk;VALUE=DATE-TIME:20260507T200500
DTSTART;TZID=Asia/Novosibirsk;VALUE=DATE-TIME:20260507T183000
DESCRIPTION:Лекция\, 
SUMMARY:Цифровая кафедра
LOCATION:
END:VEVENT
BEGIN:VEVENT
DTEND;TZID=Asia/Novosibirsk;VALUE=DATE-TIME:20260521T200500
DTSTART;TZID=Asia/Novosibirsk;VALUE=DATE-TIME:20260521T183000
DESCRIPTION:Лекция\, 
SUMMARY:Цифровая кафедра
LOCATION:
END:VEVENT
BEGIN:VEVENT
DTEND;TZID=Asia/Novosibirsk;VALUE=DATE-TIME:20260604T200500
DTSTART;TZID=Asia/Novosibirsk;VALUE=DATE-TIME:20260604T183000
DESCRIPTION:Лекция\, 
SUMMARY:Цифровая кафедра
LOCATION:
END:VEVENT
BEGIN:VEVENT
DTEND;TZID=Asia/Novosibirsk;VALUE=DATE-TIME:20260425T121500
DTSTART;TZID=Asia/Novosibirsk;VALUE=DATE-TIME:20260425T104000
DESCRIPTION:Лекция\, реализуется в эиос с 11:40\, Артемов Д.Е.
SUMMARY:Моделирование устройств на основе ФИС
LOCATION:
END:VEVENT
BEGIN:VEVENT
DTEND;TZID=Asia/Novosibirsk;VALUE=DATE-TIME:20260509T121500
DTSTART;TZID=Asia/Novosibirsk;VALUE=DATE-TIME:20260509T104000
DESCRIPTION:Лекция\, реализуется в эиос с 11:40\, Артемов Д.Е.
SUMMARY:Моделирование устройств на основе ФИС
LOCATION:
END:VEVENT
BEGIN:VEVENT
DTEND;TZID=Asia/Novosibirsk;VALUE=DATE-TIME:20260523T121500
DTSTART;TZID=Asia/Novosibirsk;VALUE=DATE-TIME:20260523T104000
DESCRIPTION:Лекция\, реализуется в эиос с 11:40\, Артемов Д.Е.
SUMMARY:Моделирование устройств на основе ФИС
LOCATION:
END:VEVENT
BEGIN:VEVENT
DTEND;TZID=Asia/Novosibirsk;VALUE=DATE-TIME:20260606T121500
DTSTART;TZID=Asia/Novosibirsk;VALUE=DATE-TIME:20260606T104000
DESCRIPTION:Лекция\, реализуется в эиос с 11:40\, Артемов Д.Е.
SUMMARY:Моделирование устройств на основе ФИС
LOCATION:
END:VEVENT
BEGIN:VEVENT
DTEND;TZID=Asia/Novosibirsk;VALUE=DATE-TIME:20260421T163500
DTSTART;TZID=Asia/Novosibirsk;VALUE=DATE-TIME:20260421T150000
DESCRIPTION:Практика\, Газизов Т.Р.
SUMMARY:Теория решения изобретательских задач
LOCATION:рк 218
END:VEVENT
BEGIN:VEVENT
DTEND;TZID=Asia/Novosibirsk;VALUE=DATE-TIME:20260505T163500
DTSTART;TZID=Asia/Novosibirsk;VALUE=DATE-TIME:20260505T150000
DESCRIPTION:Практика\, Газизов Т.Р.
SUMMARY:Теория решения изобретательских задач
LOCATION:рк 218
END:VEVENT
BEGIN:VEVENT
DTEND;TZID=Asia/Novosibirsk;VALUE=DATE-TIME:20260519T163500
DTSTART;TZID=Asia/Novosibirsk;VALUE=DATE-TIME:20260519T150000
DESCRIPTION:Практика\, Газизов Т.Р.
SUMMARY:Теория решения изобретательских задач
LOCATION:рк 218
END:VEVENT
BEGIN:VEVENT
DTEND;TZID=Asia/Novosibirsk;VALUE=DATE-TIME:20260602T163500
DTSTART;TZID=Asia/Novosibirsk;VALUE=DATE-TIME:20260602T150000
DESCRIPTION:Практика\, Газизов Т.Р.
SUMMARY:Теория решения изобретательских задач
LOCATION:рк 218
END:VEVENT
BEGIN:VEVENT
DTEND;TZID=Asia/Novosibirsk;VALUE=DATE-TIME:20260605T200500
DTSTART;TZID=Asia/Novosibirsk;VALUE=DATE-TIME:20260605T183000
DESCRIPTION:Практика\, Перин А.С.
SUMMARY:Проектно-конструкторская практика (рассред.)
LOCATION:рк 226/1
END:VEVENT
BEGIN:VEVENT
DTEND;TZID=Asia/Novosibirsk;VALUE=DATE-TIME:20260414T182000
DTSTART;TZID=Asia/Novosibirsk;VALUE=DATE-TIME:20260414T164500
DESCRIPTION:Практика\, Громов В.А.
SUMMARY:Интеллектуальная собственность
LOCATION:рк 224/1
END:VEVENT
BEGIN:VEVENT
DTEND;TZID=Asia/Novosibirsk;VALUE=DATE-TIME:20260428T182000
DTSTART;TZID=Asia/Novosibirsk;VALUE=DATE-TIME:20260428T164500
DESCRIPTION:Практика\, Громов В.А.
SUMMARY:Интеллектуальная собственность
LOCATION:рк 224/1
END:VEVENT
BEGIN:VEVENT
DTEND;TZID=Asia/Novosibirsk;VALUE=DATE-TIME:20260512T182000
DTSTART;TZID=Asia/Novosibirsk;VALUE=DATE-TIME:20260512T164500
DESCRIPTION:Практика\, Громов В.А.
SUMMARY:Интеллектуальная собственность
LOCATION:рк 224/1
END:VEVENT
BEGIN:VEVENT
DTEND;TZID=Asia/Novosibirsk;VALUE=DATE-TIME:20260526T182000
DTSTART;TZID=Asia/Novosibirsk;VALUE=DATE-TIME:20260526T164500
DESCRIPTION:Практика\, Громов В.А.
SUMMARY:Интеллектуальная собственность
LOCATION:рк 224/1
END:VEVENT
BEGIN:VEVENT
DTEND;TZID=Asia/Novosibirsk;VALUE=DATE-TIME:20260605T182000
DTSTART;TZID=Asia/Novosibirsk;VALUE=DATE-TIME:20260605T164500
DESCRIPTION:Практика\, Перин А.С.
SUMMARY:Проектно-конструкторская практика (рассред.)
LOCATION:рк 226/1
END:VEVENT
BEGIN:VEVENT
DTEND;TZID=Asia/Novosibirsk;VALUE=DATE-TIME:20260414T215000
DTSTART;TZID=Asia/Novosibirsk;VALUE=DATE-TIME:20260414T201500
DESCRIPTION:Практика\, Газизов Т.Р.
SUMMARY:Теория решения изобретательских задач
LOCATION:рк 218
END:VEVENT
BEGIN:VEVENT
DTEND;TZID=Asia/Novosibirsk;VALUE=DATE-TIME:20260608T182000
DTSTART;TZID=Asia/Novosibirsk;VALUE=DATE-TIME:20260608T164500
DESCRIPTION:Практика\, Перин А.С.
SUMMARY:Проектно-конструкторская практика (рассред.)
LOCATION:рк 226/1
END:VEVENT
BEGIN:VEVENT
DTEND;TZID=Asia/Novosibirsk;VALUE=DATE-TIME:20260608T200500
DTSTART;TZID=Asia/Novosibirsk;VALUE=DATE-TIME:20260608T183000
DESCRIPTION:Практика\, Перин А.С.
SUMMARY:Проектно-конструкторская практика (рассред.)
LOCATION:рк 226/1
END:VEVENT
BEGIN:VEVENT
DTEND;TZID=Asia/Novosibirsk;VALUE=DATE-TIME:20260613T121500
DTSTART;TZID=Asia/Novosibirsk;VALUE=DATE-TIME:20260613T104000
DESCRIPTION:Практика\, Перин А.С.
SUMMARY:Проектно-конструкторская практика (рассред.)
LOCATION:рк 226/1
END:VEVENT
BEGIN:VEVENT
DTEND;TZID=Asia/Novosibirsk;VALUE=DATE-TIME:20260414T200500
DTSTART;TZID=Asia/Novosibirsk;VALUE=DATE-TIME:20260414T183000
DESCRIPTION:Практика\, Газизов Т.Р.
SUMMARY:Теория решения изобретательских задач
LOCATION:рк 218
END:VEVENT
BEGIN:VEVENT
DTEND;TZID=Asia/Novosibirsk;VALUE=DATE-TIME:20260428T200500
DTSTART;TZID=Asia/Novosibirsk;VALUE=DATE-TIME:20260428T183000
DESCRIPTION:Практика\, Газизов Т.Р.
SUMMARY:Теория решения изобретательских задач
LOCATION:рк 218
END:VEVENT
BEGIN:VEVENT
DTEND;TZID=Asia/Novosibirsk;VALUE=DATE-TIME:20260512T200500
DTSTART;TZID=Asia/Novosibirsk;VALUE=DATE-TIME:20260512T183000
DESCRIPTION:Практика\, Газизов Т.Р.
SUMMARY:Теория решения изобретательских задач
LOCATION:рк 218
END:VEVENT
BEGIN:VEVENT
DTEND;TZID=Asia/Novosibirsk;VALUE=DATE-TIME:20260526T200500
DTSTART;TZID=Asia/Novosibirsk;VALUE=DATE-TIME:20260526T183000
DESCRIPTION:Практика\, Газизов Т.Р.
SUMMARY:Теория решения изобретательских задач
LOCATION:рк 218
END:VEVENT
BEGIN:VEVENT
DTEND;TZID=Asia/Novosibirsk;VALUE=DATE-TIME:20260609T200500
DTSTART;TZID=Asia/Novosibirsk;VALUE=DATE-TIME:20260609T183000
DESCRIPTION:Практика\, Газизов Т.Р.
SUMMARY:Теория решения изобретательских задач
LOCATION:рк 218
END:VEVENT
BEGIN:VEVENT
DTEND;TZID=Asia/Novosibirsk;VALUE=DATE-TIME:20260417T182000
DTSTART;TZID=Asia/Novosibirsk;VALUE=DATE-TIME:20260417T164500
DESCRIPTION:Лекция\, реализуется в эиос\, Маслова Ю.В.
SUMMARY:Мировые тренды исследований и разработок (семинары)
LOCATION:
END:VEVENT
BEGIN:VEVENT
DTEND;TZID=Asia/Novosibirsk;VALUE=DATE-TIME:20260613T163500
DTSTART;TZID=Asia/Novosibirsk;VALUE=DATE-TIME:20260613T150000
DESCRIPTION:Лекция\, в ЭИОС\, Артемов Д.Е.
SUMMARY:Моделирование устройств на основе ФИС
LOCATION:
END:VEVENT
BEGIN:VEVENT
DTEND;TZID=Asia/Novosibirsk;VALUE=DATE-TIME:20260418T121500
DTSTART;TZID=Asia/Novosibirsk;VALUE=DATE-TIME:20260418T104000
DESCRIPTION:Лекция\, в ЭИОС с 11:40\, Артемов Д.Е.
SUMMARY:Моделирование устройств на основе ФИС
LOCATION:
END:VEVENT
BEGIN:VEVENT
DTEND;TZID=Asia/Novosibirsk;VALUE=DATE-TIME:20260502T121500
DTSTART;TZID=Asia/Novosibirsk;VALUE=DATE-TIME:20260502T104000
DESCRIPTION:Лекция\, в ЭИОС с 11:40\, Артемов Д.Е.
SUMMARY:Моделирование устройств на основе ФИС
LOCATION:
END:VEVENT
BEGIN:VEVENT
DTEND;TZID=Asia/Novosibirsk;VALUE=DATE-TIME:20260516T121500
DTSTART;TZID=Asia/Novosibirsk;VALUE=DATE-TIME:20260516T104000
DESCRIPTION:Лекция\, в ЭИОС с 11:40\, Артемов Д.Е.
SUMMARY:Моделирование устройств на основе ФИС
LOCATION:
END:VEVENT
BEGIN:VEVENT
DTEND;TZID=Asia/Novosibirsk;VALUE=DATE-TIME:20260530T121500
DTSTART;TZID=Asia/Novosibirsk;VALUE=DATE-TIME:20260530T104000
DESCRIPTION:Лекция\, в ЭИОС с 11:40\, Артемов Д.Е.
SUMMARY:Моделирование устройств на основе ФИС
LOCATION:
END:VEVENT
END:VCALENDAR
