BEGIN:VCALENDAR
PRODID;X-RICAL-TZSOURCE=TZINFO:timetable.tusur.ru
CALSCALE:GREGORIAN
VERSION:2.0
BEGIN:VTIMEZONE
TZID;X-RICAL-TZSOURCE=TZINFO:Asia/Novosibirsk
BEGIN:STANDARD
DTSTART:20160724T020000
RDATE:20160724T040000
TZOFFSETFROM:+0600
TZOFFSETTO:+0700
TZNAME:+07
END:STANDARD
END:VTIMEZONE
BEGIN:VEVENT
DTEND;TZID=Asia/Novosibirsk;VALUE=DATE-TIME:20260414T121500
DTSTART;TZID=Asia/Novosibirsk;VALUE=DATE-TIME:20260414T104000
DESCRIPTION:Лабораторная работа\, 234-2
SUMMARY:Материалы и компоненты электронных средств
LOCATION:гк 427
END:VEVENT
BEGIN:VEVENT
DTEND;TZID=Asia/Novosibirsk;VALUE=DATE-TIME:20260428T121500
DTSTART;TZID=Asia/Novosibirsk;VALUE=DATE-TIME:20260428T104000
DESCRIPTION:Лабораторная работа\, 234-2
SUMMARY:Материалы и компоненты электронных средств
LOCATION:гк 427
END:VEVENT
BEGIN:VEVENT
DTEND;TZID=Asia/Novosibirsk;VALUE=DATE-TIME:20260512T121500
DTSTART;TZID=Asia/Novosibirsk;VALUE=DATE-TIME:20260512T104000
DESCRIPTION:Лабораторная работа\, 234-2
SUMMARY:Материалы и компоненты электронных средств
LOCATION:гк 427
END:VEVENT
BEGIN:VEVENT
DTEND;TZID=Asia/Novosibirsk;VALUE=DATE-TIME:20260526T121500
DTSTART;TZID=Asia/Novosibirsk;VALUE=DATE-TIME:20260526T104000
DESCRIPTION:Лабораторная работа\, 234-2
SUMMARY:Материалы и компоненты электронных средств
LOCATION:гк 427
END:VEVENT
BEGIN:VEVENT
DTEND;TZID=Asia/Novosibirsk;VALUE=DATE-TIME:20260609T121500
DTSTART;TZID=Asia/Novosibirsk;VALUE=DATE-TIME:20260609T104000
DESCRIPTION:Лабораторная работа\, 234-2
SUMMARY:Материалы и компоненты электронных средств
LOCATION:гк 427
END:VEVENT
BEGIN:VEVENT
DTEND;TZID=Asia/Novosibirsk;VALUE=DATE-TIME:20260414T102500
DTSTART;TZID=Asia/Novosibirsk;VALUE=DATE-TIME:20260414T085000
DESCRIPTION:Лабораторная работа\, 234-2
SUMMARY:Материалы и компоненты электронных средств
LOCATION:гк 427
END:VEVENT
BEGIN:VEVENT
DTEND;TZID=Asia/Novosibirsk;VALUE=DATE-TIME:20260428T102500
DTSTART;TZID=Asia/Novosibirsk;VALUE=DATE-TIME:20260428T085000
DESCRIPTION:Лабораторная работа\, 234-2
SUMMARY:Материалы и компоненты электронных средств
LOCATION:гк 427
END:VEVENT
BEGIN:VEVENT
DTEND;TZID=Asia/Novosibirsk;VALUE=DATE-TIME:20260512T102500
DTSTART;TZID=Asia/Novosibirsk;VALUE=DATE-TIME:20260512T085000
DESCRIPTION:Лабораторная работа\, 234-2
SUMMARY:Материалы и компоненты электронных средств
LOCATION:гк 427
END:VEVENT
BEGIN:VEVENT
DTEND;TZID=Asia/Novosibirsk;VALUE=DATE-TIME:20260526T102500
DTSTART;TZID=Asia/Novosibirsk;VALUE=DATE-TIME:20260526T085000
DESCRIPTION:Лабораторная работа\, 234-2
SUMMARY:Материалы и компоненты электронных средств
LOCATION:гк 427
END:VEVENT
BEGIN:VEVENT
DTEND;TZID=Asia/Novosibirsk;VALUE=DATE-TIME:20260609T102500
DTSTART;TZID=Asia/Novosibirsk;VALUE=DATE-TIME:20260609T085000
DESCRIPTION:Лабораторная работа\, 234-2
SUMMARY:Материалы и компоненты электронных средств
LOCATION:гк 427
END:VEVENT
BEGIN:VEVENT
DTEND;TZID=Asia/Novosibirsk;VALUE=DATE-TIME:20260521T145000
DTSTART;TZID=Asia/Novosibirsk;VALUE=DATE-TIME:20260521T131500
DESCRIPTION:Практика\, 234-2
SUMMARY:Материалы и компоненты электронных средств
LOCATION:гк 425
END:VEVENT
BEGIN:VEVENT
DTEND;TZID=Asia/Novosibirsk;VALUE=DATE-TIME:20260604T145000
DTSTART;TZID=Asia/Novosibirsk;VALUE=DATE-TIME:20260604T131500
DESCRIPTION:Практика\, 234-2
SUMMARY:Материалы и компоненты электронных средств
LOCATION:гк 425
END:VEVENT
BEGIN:VEVENT
DTEND;TZID=Asia/Novosibirsk;VALUE=DATE-TIME:20260420T163500
DTSTART;TZID=Asia/Novosibirsk;VALUE=DATE-TIME:20260420T150000
DESCRIPTION:Лабораторная работа\, з-42
SUMMARY:Материалы и компоненты электронных средств
LOCATION:гк 427
END:VEVENT
BEGIN:VEVENT
DTEND;TZID=Asia/Novosibirsk;VALUE=DATE-TIME:20260420T182000
DTSTART;TZID=Asia/Novosibirsk;VALUE=DATE-TIME:20260420T164500
DESCRIPTION:Лабораторная работа\, з-42
SUMMARY:Материалы и компоненты электронных средств
LOCATION:гк 427
END:VEVENT
BEGIN:VEVENT
DTEND;TZID=Asia/Novosibirsk;VALUE=DATE-TIME:20260422T200500
DTSTART;TZID=Asia/Novosibirsk;VALUE=DATE-TIME:20260422T183000
DESCRIPTION:Практика\, з-42
SUMMARY:Материалы и компоненты электронных средств
LOCATION:гк 427
END:VEVENT
BEGIN:VEVENT
DTEND;TZID=Asia/Novosibirsk;VALUE=DATE-TIME:20260416T163500
DTSTART;TZID=Asia/Novosibirsk;VALUE=DATE-TIME:20260416T150000
DESCRIPTION:Практика\, 234-2
SUMMARY:Материалы и компоненты электронных средств
LOCATION:гк 143
END:VEVENT
BEGIN:VEVENT
DTEND;TZID=Asia/Novosibirsk;VALUE=DATE-TIME:20260430T163500
DTSTART;TZID=Asia/Novosibirsk;VALUE=DATE-TIME:20260430T150000
DESCRIPTION:Практика\, 234-2
SUMMARY:Материалы и компоненты электронных средств
LOCATION:гк 143
END:VEVENT
BEGIN:VEVENT
DTEND;TZID=Asia/Novosibirsk;VALUE=DATE-TIME:20260514T163500
DTSTART;TZID=Asia/Novosibirsk;VALUE=DATE-TIME:20260514T150000
DESCRIPTION:Практика\, 234-2
SUMMARY:Материалы и компоненты электронных средств
LOCATION:гк 143
END:VEVENT
BEGIN:VEVENT
DTEND;TZID=Asia/Novosibirsk;VALUE=DATE-TIME:20260528T163500
DTSTART;TZID=Asia/Novosibirsk;VALUE=DATE-TIME:20260528T150000
DESCRIPTION:Практика\, 234-2
SUMMARY:Материалы и компоненты электронных средств
LOCATION:гк 143
END:VEVENT
BEGIN:VEVENT
DTEND;TZID=Asia/Novosibirsk;VALUE=DATE-TIME:20260611T163500
DTSTART;TZID=Asia/Novosibirsk;VALUE=DATE-TIME:20260611T150000
DESCRIPTION:Практика\, 234-2
SUMMARY:Материалы и компоненты электронных средств
LOCATION:гк 143
END:VEVENT
BEGIN:VEVENT
DTEND;TZID=Asia/Novosibirsk;VALUE=DATE-TIME:20260430T145000
DTSTART;TZID=Asia/Novosibirsk;VALUE=DATE-TIME:20260430T131500
DESCRIPTION:Практика\, 234-2
SUMMARY:Материалы и компоненты электронных средств
LOCATION:гк 143
END:VEVENT
END:VCALENDAR
