BEGIN:VCALENDAR
PRODID;X-RICAL-TZSOURCE=TZINFO:timetable.tusur.ru
CALSCALE:GREGORIAN
VERSION:2.0
BEGIN:VTIMEZONE
TZID;X-RICAL-TZSOURCE=TZINFO:Asia/Novosibirsk
BEGIN:STANDARD
DTSTART:20160724T020000
RDATE:20160724T040000
TZOFFSETFROM:+0600
TZOFFSETTO:+0700
TZNAME:+07
END:STANDARD
END:VTIMEZONE
BEGIN:VEVENT
DTEND;TZID=Asia/Novosibirsk;VALUE=DATE-TIME:20260422T145000
DTSTART;TZID=Asia/Novosibirsk;VALUE=DATE-TIME:20260422T131500
DESCRIPTION:Практика\, 744-1\, 744-2
SUMMARY:Учебно-проектная деятельность (УПД-1)
LOCATION:улк 409
END:VEVENT
BEGIN:VEVENT
DTEND;TZID=Asia/Novosibirsk;VALUE=DATE-TIME:20260422T163500
DTSTART;TZID=Asia/Novosibirsk;VALUE=DATE-TIME:20260422T150000
DESCRIPTION:Практика\, 744-1\, 744-2
SUMMARY:Учебно-проектная деятельность (УПД-1)
LOCATION:улк 409
END:VEVENT
BEGIN:VEVENT
DTEND;TZID=Asia/Novosibirsk;VALUE=DATE-TIME:20260424T121500
DTSTART;TZID=Asia/Novosibirsk;VALUE=DATE-TIME:20260424T104000
DESCRIPTION:Практика\, 713-1\, 713-2\, 723-1\, 723-2
SUMMARY:Учебно-проектная деятельность (УПД-3)
LOCATION:улк 305
END:VEVENT
BEGIN:VEVENT
DTEND;TZID=Asia/Novosibirsk;VALUE=DATE-TIME:20260424T102500
DTSTART;TZID=Asia/Novosibirsk;VALUE=DATE-TIME:20260424T085000
DESCRIPTION:Практика\, 713-1\, 713-2\, 723-1\, 723-2
SUMMARY:Учебно-проектная деятельность (УПД-3)
LOCATION:улк 305
END:VEVENT
BEGIN:VEVENT
DTEND;TZID=Asia/Novosibirsk;VALUE=DATE-TIME:20260415T163500
DTSTART;TZID=Asia/Novosibirsk;VALUE=DATE-TIME:20260415T150000
DESCRIPTION:Практика\, 744-1\, 744-2
SUMMARY:Учебно-проектная деятельность (УПД-1)
LOCATION:улк 309
END:VEVENT
BEGIN:VEVENT
DTEND;TZID=Asia/Novosibirsk;VALUE=DATE-TIME:20260415T145000
DTSTART;TZID=Asia/Novosibirsk;VALUE=DATE-TIME:20260415T131500
DESCRIPTION:Практика\, 744-1\, 744-2
SUMMARY:Учебно-проектная деятельность (УПД-1)
LOCATION:улк 302
END:VEVENT
BEGIN:VEVENT
DTEND;TZID=Asia/Novosibirsk;VALUE=DATE-TIME:20260417T102500
DTSTART;TZID=Asia/Novosibirsk;VALUE=DATE-TIME:20260417T085000
DESCRIPTION:Практика\, 713-1\, 713-2\, 723-1\, 723-2
SUMMARY:Учебно-проектная деятельность (УПД-3)
LOCATION:улк 305
END:VEVENT
BEGIN:VEVENT
DTEND;TZID=Asia/Novosibirsk;VALUE=DATE-TIME:20260417T121500
DTSTART;TZID=Asia/Novosibirsk;VALUE=DATE-TIME:20260417T104000
DESCRIPTION:Практика\, 713-1\, 713-2\, 723-1\, 723-2
SUMMARY:Учебно-проектная деятельность (УПД-3)
LOCATION:улк 305
END:VEVENT
BEGIN:VEVENT
DTEND;TZID=Asia/Novosibirsk;VALUE=DATE-TIME:20260504T145000
DTSTART;TZID=Asia/Novosibirsk;VALUE=DATE-TIME:20260504T131500
DESCRIPTION:Практика\, 744-1\, 744-2
SUMMARY:Учебно-проектная деятельность (УПД-1)
LOCATION:улк 403
END:VEVENT
BEGIN:VEVENT
DTEND;TZID=Asia/Novosibirsk;VALUE=DATE-TIME:20260504T163500
DTSTART;TZID=Asia/Novosibirsk;VALUE=DATE-TIME:20260504T150000
DESCRIPTION:Практика\, 744-1\, 744-2
SUMMARY:Учебно-проектная деятельность (УПД-1)
LOCATION:улк 403
END:VEVENT
BEGIN:VEVENT
DTEND;TZID=Asia/Novosibirsk;VALUE=DATE-TIME:20260518T145000
DTSTART;TZID=Asia/Novosibirsk;VALUE=DATE-TIME:20260518T131500
DESCRIPTION:Практика\, 744-1\, 744-2
SUMMARY:Учебно-проектная деятельность (УПД-1)
LOCATION:улк 403
END:VEVENT
BEGIN:VEVENT
DTEND;TZID=Asia/Novosibirsk;VALUE=DATE-TIME:20260518T163500
DTSTART;TZID=Asia/Novosibirsk;VALUE=DATE-TIME:20260518T150000
DESCRIPTION:Практика\, 744-1\, 744-2
SUMMARY:Учебно-проектная деятельность (УПД-1)
LOCATION:улк 403
END:VEVENT
BEGIN:VEVENT
DTEND;TZID=Asia/Novosibirsk;VALUE=DATE-TIME:20260601T145000
DTSTART;TZID=Asia/Novosibirsk;VALUE=DATE-TIME:20260601T131500
DESCRIPTION:Практика\, 744-1\, 744-2
SUMMARY:Учебно-проектная деятельность (УПД-1)
LOCATION:улк 403
END:VEVENT
BEGIN:VEVENT
DTEND;TZID=Asia/Novosibirsk;VALUE=DATE-TIME:20260601T163500
DTSTART;TZID=Asia/Novosibirsk;VALUE=DATE-TIME:20260601T150000
DESCRIPTION:Практика\, 744-1\, 744-2
SUMMARY:Учебно-проектная деятельность (УПД-1)
LOCATION:улк 403
END:VEVENT
END:VCALENDAR
