BEGIN:VCALENDAR
PRODID;X-RICAL-TZSOURCE=TZINFO:timetable.tusur.ru
CALSCALE:GREGORIAN
VERSION:2.0
BEGIN:VTIMEZONE
TZID;X-RICAL-TZSOURCE=TZINFO:Asia/Novosibirsk
BEGIN:STANDARD
DTSTART:20160724T020000
RDATE:20160724T040000
TZOFFSETFROM:+0600
TZOFFSETTO:+0700
TZNAME:+07
END:STANDARD
END:VTIMEZONE
BEGIN:VEVENT
DTEND;TZID=Asia/Novosibirsk;VALUE=DATE-TIME:20260417T102500
DTSTART;TZID=Asia/Novosibirsk;VALUE=DATE-TIME:20260417T085000
DESCRIPTION:Практика\, 524
SUMMARY:Экономика и финансы предприятий
LOCATION:рк 303
END:VEVENT
BEGIN:VEVENT
DTEND;TZID=Asia/Novosibirsk;VALUE=DATE-TIME:20260501T102500
DTSTART;TZID=Asia/Novosibirsk;VALUE=DATE-TIME:20260501T085000
DESCRIPTION:Практика\, 524
SUMMARY:Экономика и финансы предприятий
LOCATION:рк 303
END:VEVENT
BEGIN:VEVENT
DTEND;TZID=Asia/Novosibirsk;VALUE=DATE-TIME:20260515T102500
DTSTART;TZID=Asia/Novosibirsk;VALUE=DATE-TIME:20260515T085000
DESCRIPTION:Практика\, 524
SUMMARY:Экономика и финансы предприятий
LOCATION:рк 303
END:VEVENT
BEGIN:VEVENT
DTEND;TZID=Asia/Novosibirsk;VALUE=DATE-TIME:20260529T102500
DTSTART;TZID=Asia/Novosibirsk;VALUE=DATE-TIME:20260529T085000
DESCRIPTION:Практика\, 524
SUMMARY:Экономика и финансы предприятий
LOCATION:рк 303
END:VEVENT
BEGIN:VEVENT
DTEND;TZID=Asia/Novosibirsk;VALUE=DATE-TIME:20260612T102500
DTSTART;TZID=Asia/Novosibirsk;VALUE=DATE-TIME:20260612T085000
DESCRIPTION:Практика\, 524
SUMMARY:Экономика и финансы предприятий
LOCATION:рк 303
END:VEVENT
BEGIN:VEVENT
DTEND;TZID=Asia/Novosibirsk;VALUE=DATE-TIME:20260417T121500
DTSTART;TZID=Asia/Novosibirsk;VALUE=DATE-TIME:20260417T104000
DESCRIPTION:Практика\, 544-1
SUMMARY:Экономика и финансы предприятий
LOCATION:рк 326
END:VEVENT
BEGIN:VEVENT
DTEND;TZID=Asia/Novosibirsk;VALUE=DATE-TIME:20260501T121500
DTSTART;TZID=Asia/Novosibirsk;VALUE=DATE-TIME:20260501T104000
DESCRIPTION:Практика\, 544-1
SUMMARY:Экономика и финансы предприятий
LOCATION:рк 326
END:VEVENT
BEGIN:VEVENT
DTEND;TZID=Asia/Novosibirsk;VALUE=DATE-TIME:20260515T121500
DTSTART;TZID=Asia/Novosibirsk;VALUE=DATE-TIME:20260515T104000
DESCRIPTION:Практика\, 544-1
SUMMARY:Экономика и финансы предприятий
LOCATION:рк 326
END:VEVENT
BEGIN:VEVENT
DTEND;TZID=Asia/Novosibirsk;VALUE=DATE-TIME:20260529T121500
DTSTART;TZID=Asia/Novosibirsk;VALUE=DATE-TIME:20260529T104000
DESCRIPTION:Практика\, 544-1
SUMMARY:Экономика и финансы предприятий
LOCATION:рк 326
END:VEVENT
BEGIN:VEVENT
DTEND;TZID=Asia/Novosibirsk;VALUE=DATE-TIME:20260612T121500
DTSTART;TZID=Asia/Novosibirsk;VALUE=DATE-TIME:20260612T104000
DESCRIPTION:Практика\, 544-1
SUMMARY:Экономика и финансы предприятий
LOCATION:рк 326
END:VEVENT
END:VCALENDAR
