BEGIN:VCALENDAR
PRODID;X-RICAL-TZSOURCE=TZINFO:timetable.tusur.ru
CALSCALE:GREGORIAN
VERSION:2.0
BEGIN:VTIMEZONE
TZID;X-RICAL-TZSOURCE=TZINFO:Asia/Novosibirsk
BEGIN:STANDARD
DTSTART:20160724T020000
RDATE:20160724T040000
TZOFFSETFROM:+0600
TZOFFSETTO:+0700
TZNAME:+07
END:STANDARD
END:VTIMEZONE
BEGIN:VEVENT
DTEND;TZID=Asia/Novosibirsk;VALUE=DATE-TIME:20260418T163500
DTSTART;TZID=Asia/Novosibirsk;VALUE=DATE-TIME:20260418T150000
DESCRIPTION:Лабораторная работа\, 425-2\, подгруппа а
SUMMARY:Программирование
LOCATION:ф 432б
END:VEVENT
BEGIN:VEVENT
DTEND;TZID=Asia/Novosibirsk;VALUE=DATE-TIME:20260502T163500
DTSTART;TZID=Asia/Novosibirsk;VALUE=DATE-TIME:20260502T150000
DESCRIPTION:Лабораторная работа\, 425-2\, подгруппа а
SUMMARY:Программирование
LOCATION:ф 432б
END:VEVENT
BEGIN:VEVENT
DTEND;TZID=Asia/Novosibirsk;VALUE=DATE-TIME:20260516T163500
DTSTART;TZID=Asia/Novosibirsk;VALUE=DATE-TIME:20260516T150000
DESCRIPTION:Лабораторная работа\, 425-2\, подгруппа а
SUMMARY:Программирование
LOCATION:ф 432б
END:VEVENT
BEGIN:VEVENT
DTEND;TZID=Asia/Novosibirsk;VALUE=DATE-TIME:20260530T163500
DTSTART;TZID=Asia/Novosibirsk;VALUE=DATE-TIME:20260530T150000
DESCRIPTION:Лабораторная работа\, 425-2\, подгруппа а
SUMMARY:Программирование
LOCATION:ф 432б
END:VEVENT
BEGIN:VEVENT
DTEND;TZID=Asia/Novosibirsk;VALUE=DATE-TIME:20260613T163500
DTSTART;TZID=Asia/Novosibirsk;VALUE=DATE-TIME:20260613T150000
DESCRIPTION:Лабораторная работа\, 425-2\, подгруппа а
SUMMARY:Программирование
LOCATION:ф 432б
END:VEVENT
BEGIN:VEVENT
DTEND;TZID=Asia/Novosibirsk;VALUE=DATE-TIME:20260418T145000
DTSTART;TZID=Asia/Novosibirsk;VALUE=DATE-TIME:20260418T131500
DESCRIPTION:Лабораторная работа\, 425-2\, подгруппа а
SUMMARY:Программирование
LOCATION:ф 432б
END:VEVENT
BEGIN:VEVENT
DTEND;TZID=Asia/Novosibirsk;VALUE=DATE-TIME:20260502T145000
DTSTART;TZID=Asia/Novosibirsk;VALUE=DATE-TIME:20260502T131500
DESCRIPTION:Лабораторная работа\, 425-2\, подгруппа а
SUMMARY:Программирование
LOCATION:ф 432б
END:VEVENT
BEGIN:VEVENT
DTEND;TZID=Asia/Novosibirsk;VALUE=DATE-TIME:20260516T145000
DTSTART;TZID=Asia/Novosibirsk;VALUE=DATE-TIME:20260516T131500
DESCRIPTION:Лабораторная работа\, 425-2\, подгруппа а
SUMMARY:Программирование
LOCATION:ф 432б
END:VEVENT
BEGIN:VEVENT
DTEND;TZID=Asia/Novosibirsk;VALUE=DATE-TIME:20260530T145000
DTSTART;TZID=Asia/Novosibirsk;VALUE=DATE-TIME:20260530T131500
DESCRIPTION:Лабораторная работа\, 425-2\, подгруппа а
SUMMARY:Программирование
LOCATION:ф 432б
END:VEVENT
BEGIN:VEVENT
DTEND;TZID=Asia/Novosibirsk;VALUE=DATE-TIME:20260613T145000
DTSTART;TZID=Asia/Novosibirsk;VALUE=DATE-TIME:20260613T131500
DESCRIPTION:Лабораторная работа\, 425-2\, подгруппа а
SUMMARY:Программирование
LOCATION:ф 432б
END:VEVENT
BEGIN:VEVENT
DTEND;TZID=Asia/Novosibirsk;VALUE=DATE-TIME:20260418T182000
DTSTART;TZID=Asia/Novosibirsk;VALUE=DATE-TIME:20260418T164500
DESCRIPTION:Практика\, 425-2
SUMMARY:Программирование
LOCATION:ф 430
END:VEVENT
BEGIN:VEVENT
DTEND;TZID=Asia/Novosibirsk;VALUE=DATE-TIME:20260502T182000
DTSTART;TZID=Asia/Novosibirsk;VALUE=DATE-TIME:20260502T164500
DESCRIPTION:Практика\, 425-2
SUMMARY:Программирование
LOCATION:ф 430
END:VEVENT
BEGIN:VEVENT
DTEND;TZID=Asia/Novosibirsk;VALUE=DATE-TIME:20260516T182000
DTSTART;TZID=Asia/Novosibirsk;VALUE=DATE-TIME:20260516T164500
DESCRIPTION:Практика\, 425-2
SUMMARY:Программирование
LOCATION:ф 430
END:VEVENT
BEGIN:VEVENT
DTEND;TZID=Asia/Novosibirsk;VALUE=DATE-TIME:20260530T182000
DTSTART;TZID=Asia/Novosibirsk;VALUE=DATE-TIME:20260530T164500
DESCRIPTION:Практика\, 425-2
SUMMARY:Программирование
LOCATION:ф 430
END:VEVENT
BEGIN:VEVENT
DTEND;TZID=Asia/Novosibirsk;VALUE=DATE-TIME:20260613T182000
DTSTART;TZID=Asia/Novosibirsk;VALUE=DATE-TIME:20260613T164500
DESCRIPTION:Практика\, 425-2
SUMMARY:Программирование
LOCATION:ф 430
END:VEVENT
BEGIN:VEVENT
DTEND;TZID=Asia/Novosibirsk;VALUE=DATE-TIME:20260425T121500
DTSTART;TZID=Asia/Novosibirsk;VALUE=DATE-TIME:20260425T104000
DESCRIPTION:Лабораторная работа\, 425-2\, подгруппа б
SUMMARY:Программирование
LOCATION:ф 432б
END:VEVENT
BEGIN:VEVENT
DTEND;TZID=Asia/Novosibirsk;VALUE=DATE-TIME:20260509T121500
DTSTART;TZID=Asia/Novosibirsk;VALUE=DATE-TIME:20260509T104000
DESCRIPTION:Лабораторная работа\, 425-2\, подгруппа б
SUMMARY:Программирование
LOCATION:ф 432б
END:VEVENT
BEGIN:VEVENT
DTEND;TZID=Asia/Novosibirsk;VALUE=DATE-TIME:20260523T121500
DTSTART;TZID=Asia/Novosibirsk;VALUE=DATE-TIME:20260523T104000
DESCRIPTION:Лабораторная работа\, 425-2\, подгруппа б
SUMMARY:Программирование
LOCATION:ф 432б
END:VEVENT
BEGIN:VEVENT
DTEND;TZID=Asia/Novosibirsk;VALUE=DATE-TIME:20260606T121500
DTSTART;TZID=Asia/Novosibirsk;VALUE=DATE-TIME:20260606T104000
DESCRIPTION:Лабораторная работа\, 425-2\, подгруппа б
SUMMARY:Программирование
LOCATION:ф 432б
END:VEVENT
BEGIN:VEVENT
DTEND;TZID=Asia/Novosibirsk;VALUE=DATE-TIME:20260425T102500
DTSTART;TZID=Asia/Novosibirsk;VALUE=DATE-TIME:20260425T085000
DESCRIPTION:Лабораторная работа\, 425-2\, подгруппа б
SUMMARY:Программирование
LOCATION:ф 432б
END:VEVENT
BEGIN:VEVENT
DTEND;TZID=Asia/Novosibirsk;VALUE=DATE-TIME:20260509T102500
DTSTART;TZID=Asia/Novosibirsk;VALUE=DATE-TIME:20260509T085000
DESCRIPTION:Лабораторная работа\, 425-2\, подгруппа б
SUMMARY:Программирование
LOCATION:ф 432б
END:VEVENT
BEGIN:VEVENT
DTEND;TZID=Asia/Novosibirsk;VALUE=DATE-TIME:20260523T102500
DTSTART;TZID=Asia/Novosibirsk;VALUE=DATE-TIME:20260523T085000
DESCRIPTION:Лабораторная работа\, 425-2\, подгруппа б
SUMMARY:Программирование
LOCATION:ф 432б
END:VEVENT
BEGIN:VEVENT
DTEND;TZID=Asia/Novosibirsk;VALUE=DATE-TIME:20260606T102500
DTSTART;TZID=Asia/Novosibirsk;VALUE=DATE-TIME:20260606T085000
DESCRIPTION:Лабораторная работа\, 425-2\, подгруппа б
SUMMARY:Программирование
LOCATION:ф 432б
END:VEVENT
BEGIN:VEVENT
DTEND;TZID=Asia/Novosibirsk;VALUE=DATE-TIME:20260418T121500
DTSTART;TZID=Asia/Novosibirsk;VALUE=DATE-TIME:20260418T104000
DESCRIPTION:Лабораторная работа\, 425-3\, подгруппа а
SUMMARY:Программирование
LOCATION:ф 432б
END:VEVENT
BEGIN:VEVENT
DTEND;TZID=Asia/Novosibirsk;VALUE=DATE-TIME:20260502T121500
DTSTART;TZID=Asia/Novosibirsk;VALUE=DATE-TIME:20260502T104000
DESCRIPTION:Лабораторная работа\, 425-3\, подгруппа а
SUMMARY:Программирование
LOCATION:ф 432б
END:VEVENT
BEGIN:VEVENT
DTEND;TZID=Asia/Novosibirsk;VALUE=DATE-TIME:20260516T121500
DTSTART;TZID=Asia/Novosibirsk;VALUE=DATE-TIME:20260516T104000
DESCRIPTION:Лабораторная работа\, 425-3\, подгруппа а
SUMMARY:Программирование
LOCATION:ф 432б
END:VEVENT
BEGIN:VEVENT
DTEND;TZID=Asia/Novosibirsk;VALUE=DATE-TIME:20260530T121500
DTSTART;TZID=Asia/Novosibirsk;VALUE=DATE-TIME:20260530T104000
DESCRIPTION:Лабораторная работа\, 425-3\, подгруппа а
SUMMARY:Программирование
LOCATION:ф 432б
END:VEVENT
BEGIN:VEVENT
DTEND;TZID=Asia/Novosibirsk;VALUE=DATE-TIME:20260613T121500
DTSTART;TZID=Asia/Novosibirsk;VALUE=DATE-TIME:20260613T104000
DESCRIPTION:Лабораторная работа\, 425-3\, подгруппа а
SUMMARY:Программирование
LOCATION:ф 432б
END:VEVENT
BEGIN:VEVENT
DTEND;TZID=Asia/Novosibirsk;VALUE=DATE-TIME:20260418T102500
DTSTART;TZID=Asia/Novosibirsk;VALUE=DATE-TIME:20260418T085000
DESCRIPTION:Лабораторная работа\, 425-3\, подгруппа а
SUMMARY:Программирование
LOCATION:ф 432б
END:VEVENT
BEGIN:VEVENT
DTEND;TZID=Asia/Novosibirsk;VALUE=DATE-TIME:20260502T102500
DTSTART;TZID=Asia/Novosibirsk;VALUE=DATE-TIME:20260502T085000
DESCRIPTION:Лабораторная работа\, 425-3\, подгруппа а
SUMMARY:Программирование
LOCATION:ф 432б
END:VEVENT
BEGIN:VEVENT
DTEND;TZID=Asia/Novosibirsk;VALUE=DATE-TIME:20260516T102500
DTSTART;TZID=Asia/Novosibirsk;VALUE=DATE-TIME:20260516T085000
DESCRIPTION:Лабораторная работа\, 425-3\, подгруппа а
SUMMARY:Программирование
LOCATION:ф 432б
END:VEVENT
BEGIN:VEVENT
DTEND;TZID=Asia/Novosibirsk;VALUE=DATE-TIME:20260530T102500
DTSTART;TZID=Asia/Novosibirsk;VALUE=DATE-TIME:20260530T085000
DESCRIPTION:Лабораторная работа\, 425-3\, подгруппа а
SUMMARY:Программирование
LOCATION:ф 432б
END:VEVENT
BEGIN:VEVENT
DTEND;TZID=Asia/Novosibirsk;VALUE=DATE-TIME:20260613T102500
DTSTART;TZID=Asia/Novosibirsk;VALUE=DATE-TIME:20260613T085000
DESCRIPTION:Лабораторная работа\, 425-3\, подгруппа а
SUMMARY:Программирование
LOCATION:ф 432б
END:VEVENT
BEGIN:VEVENT
DTEND;TZID=Asia/Novosibirsk;VALUE=DATE-TIME:20260425T163500
DTSTART;TZID=Asia/Novosibirsk;VALUE=DATE-TIME:20260425T150000
DESCRIPTION:Лабораторная работа\, 425-3\, подгруппа б 
SUMMARY:Программирование
LOCATION:ф 432б
END:VEVENT
BEGIN:VEVENT
DTEND;TZID=Asia/Novosibirsk;VALUE=DATE-TIME:20260509T163500
DTSTART;TZID=Asia/Novosibirsk;VALUE=DATE-TIME:20260509T150000
DESCRIPTION:Лабораторная работа\, 425-3\, подгруппа б 
SUMMARY:Программирование
LOCATION:ф 432б
END:VEVENT
BEGIN:VEVENT
DTEND;TZID=Asia/Novosibirsk;VALUE=DATE-TIME:20260523T163500
DTSTART;TZID=Asia/Novosibirsk;VALUE=DATE-TIME:20260523T150000
DESCRIPTION:Лабораторная работа\, 425-3\, подгруппа б 
SUMMARY:Программирование
LOCATION:ф 432б
END:VEVENT
BEGIN:VEVENT
DTEND;TZID=Asia/Novosibirsk;VALUE=DATE-TIME:20260606T163500
DTSTART;TZID=Asia/Novosibirsk;VALUE=DATE-TIME:20260606T150000
DESCRIPTION:Лабораторная работа\, 425-3\, подгруппа б 
SUMMARY:Программирование
LOCATION:ф 432б
END:VEVENT
BEGIN:VEVENT
DTEND;TZID=Asia/Novosibirsk;VALUE=DATE-TIME:20260425T145000
DTSTART;TZID=Asia/Novosibirsk;VALUE=DATE-TIME:20260425T131500
DESCRIPTION:Лабораторная работа\, 425-3\, подгруппа б 
SUMMARY:Программирование
LOCATION:ф 432б
END:VEVENT
BEGIN:VEVENT
DTEND;TZID=Asia/Novosibirsk;VALUE=DATE-TIME:20260509T145000
DTSTART;TZID=Asia/Novosibirsk;VALUE=DATE-TIME:20260509T131500
DESCRIPTION:Лабораторная работа\, 425-3\, подгруппа б 
SUMMARY:Программирование
LOCATION:ф 432б
END:VEVENT
BEGIN:VEVENT
DTEND;TZID=Asia/Novosibirsk;VALUE=DATE-TIME:20260523T145000
DTSTART;TZID=Asia/Novosibirsk;VALUE=DATE-TIME:20260523T131500
DESCRIPTION:Лабораторная работа\, 425-3\, подгруппа б 
SUMMARY:Программирование
LOCATION:ф 432б
END:VEVENT
BEGIN:VEVENT
DTEND;TZID=Asia/Novosibirsk;VALUE=DATE-TIME:20260606T145000
DTSTART;TZID=Asia/Novosibirsk;VALUE=DATE-TIME:20260606T131500
DESCRIPTION:Лабораторная работа\, 425-3\, подгруппа б 
SUMMARY:Программирование
LOCATION:ф 432б
END:VEVENT
BEGIN:VEVENT
DTEND;TZID=Asia/Novosibirsk;VALUE=DATE-TIME:20260425T182000
DTSTART;TZID=Asia/Novosibirsk;VALUE=DATE-TIME:20260425T164500
DESCRIPTION:Практика\, 425-3
SUMMARY:Программирование
LOCATION:ф 430
END:VEVENT
BEGIN:VEVENT
DTEND;TZID=Asia/Novosibirsk;VALUE=DATE-TIME:20260509T182000
DTSTART;TZID=Asia/Novosibirsk;VALUE=DATE-TIME:20260509T164500
DESCRIPTION:Практика\, 425-3
SUMMARY:Программирование
LOCATION:ф 430
END:VEVENT
BEGIN:VEVENT
DTEND;TZID=Asia/Novosibirsk;VALUE=DATE-TIME:20260523T182000
DTSTART;TZID=Asia/Novosibirsk;VALUE=DATE-TIME:20260523T164500
DESCRIPTION:Практика\, 425-3
SUMMARY:Программирование
LOCATION:ф 430
END:VEVENT
BEGIN:VEVENT
DTEND;TZID=Asia/Novosibirsk;VALUE=DATE-TIME:20260606T182000
DTSTART;TZID=Asia/Novosibirsk;VALUE=DATE-TIME:20260606T164500
DESCRIPTION:Практика\, 425-3
SUMMARY:Программирование
LOCATION:ф 430
END:VEVENT
END:VCALENDAR
