BEGIN:VCALENDAR
PRODID;X-RICAL-TZSOURCE=TZINFO:timetable.tusur.ru
CALSCALE:GREGORIAN
VERSION:2.0
BEGIN:VTIMEZONE
TZID;X-RICAL-TZSOURCE=TZINFO:Asia/Novosibirsk
BEGIN:STANDARD
DTSTART:20160724T020000
RDATE:20160724T040000
TZOFFSETFROM:+0600
TZOFFSETTO:+0700
TZNAME:+07
END:STANDARD
END:VTIMEZONE
BEGIN:VEVENT
DTEND;TZID=Asia/Novosibirsk;VALUE=DATE-TIME:20260421T163500
DTSTART;TZID=Asia/Novosibirsk;VALUE=DATE-TIME:20260421T150000
DESCRIPTION:Лекция\, 444-1\, 444-2
SUMMARY:Мировые информационные ресурсы
LOCATION:ф 421
END:VEVENT
BEGIN:VEVENT
DTEND;TZID=Asia/Novosibirsk;VALUE=DATE-TIME:20260505T163500
DTSTART;TZID=Asia/Novosibirsk;VALUE=DATE-TIME:20260505T150000
DESCRIPTION:Лекция\, 444-1\, 444-2
SUMMARY:Мировые информационные ресурсы
LOCATION:ф 421
END:VEVENT
BEGIN:VEVENT
DTEND;TZID=Asia/Novosibirsk;VALUE=DATE-TIME:20260519T163500
DTSTART;TZID=Asia/Novosibirsk;VALUE=DATE-TIME:20260519T150000
DESCRIPTION:Лекция\, 444-1\, 444-2
SUMMARY:Мировые информационные ресурсы
LOCATION:ф 421
END:VEVENT
BEGIN:VEVENT
DTEND;TZID=Asia/Novosibirsk;VALUE=DATE-TIME:20260602T163500
DTSTART;TZID=Asia/Novosibirsk;VALUE=DATE-TIME:20260602T150000
DESCRIPTION:Лекция\, 444-1\, 444-2
SUMMARY:Мировые информационные ресурсы
LOCATION:ф 421
END:VEVENT
BEGIN:VEVENT
DTEND;TZID=Asia/Novosibirsk;VALUE=DATE-TIME:20260421T200500
DTSTART;TZID=Asia/Novosibirsk;VALUE=DATE-TIME:20260421T183000
DESCRIPTION:Лабораторная работа\, 444-2
SUMMARY:Мировые информационные ресурсы
LOCATION:ф 401
END:VEVENT
BEGIN:VEVENT
DTEND;TZID=Asia/Novosibirsk;VALUE=DATE-TIME:20260505T200500
DTSTART;TZID=Asia/Novosibirsk;VALUE=DATE-TIME:20260505T183000
DESCRIPTION:Лабораторная работа\, 444-2
SUMMARY:Мировые информационные ресурсы
LOCATION:ф 401
END:VEVENT
BEGIN:VEVENT
DTEND;TZID=Asia/Novosibirsk;VALUE=DATE-TIME:20260519T200500
DTSTART;TZID=Asia/Novosibirsk;VALUE=DATE-TIME:20260519T183000
DESCRIPTION:Лабораторная работа\, 444-2
SUMMARY:Мировые информационные ресурсы
LOCATION:ф 401
END:VEVENT
BEGIN:VEVENT
DTEND;TZID=Asia/Novosibirsk;VALUE=DATE-TIME:20260602T200500
DTSTART;TZID=Asia/Novosibirsk;VALUE=DATE-TIME:20260602T183000
DESCRIPTION:Лабораторная работа\, 444-2
SUMMARY:Мировые информационные ресурсы
LOCATION:ф 401
END:VEVENT
BEGIN:VEVENT
DTEND;TZID=Asia/Novosibirsk;VALUE=DATE-TIME:20260421T182000
DTSTART;TZID=Asia/Novosibirsk;VALUE=DATE-TIME:20260421T164500
DESCRIPTION:Лабораторная работа\, 444-2
SUMMARY:Мировые информационные ресурсы
LOCATION:ф 401
END:VEVENT
BEGIN:VEVENT
DTEND;TZID=Asia/Novosibirsk;VALUE=DATE-TIME:20260505T182000
DTSTART;TZID=Asia/Novosibirsk;VALUE=DATE-TIME:20260505T164500
DESCRIPTION:Лабораторная работа\, 444-2
SUMMARY:Мировые информационные ресурсы
LOCATION:ф 401
END:VEVENT
BEGIN:VEVENT
DTEND;TZID=Asia/Novosibirsk;VALUE=DATE-TIME:20260519T182000
DTSTART;TZID=Asia/Novosibirsk;VALUE=DATE-TIME:20260519T164500
DESCRIPTION:Лабораторная работа\, 444-2
SUMMARY:Мировые информационные ресурсы
LOCATION:ф 401
END:VEVENT
BEGIN:VEVENT
DTEND;TZID=Asia/Novosibirsk;VALUE=DATE-TIME:20260602T182000
DTSTART;TZID=Asia/Novosibirsk;VALUE=DATE-TIME:20260602T164500
DESCRIPTION:Лабораторная работа\, 444-2
SUMMARY:Мировые информационные ресурсы
LOCATION:ф 401
END:VEVENT
BEGIN:VEVENT
DTEND;TZID=Asia/Novosibirsk;VALUE=DATE-TIME:20260420T215000
DTSTART;TZID=Asia/Novosibirsk;VALUE=DATE-TIME:20260420T201500
DESCRIPTION:Лабораторная работа\, 444-1
SUMMARY:Мировые информационные ресурсы
LOCATION:ф 439
END:VEVENT
BEGIN:VEVENT
DTEND;TZID=Asia/Novosibirsk;VALUE=DATE-TIME:20260504T215000
DTSTART;TZID=Asia/Novosibirsk;VALUE=DATE-TIME:20260504T201500
DESCRIPTION:Лабораторная работа\, 444-1
SUMMARY:Мировые информационные ресурсы
LOCATION:ф 439
END:VEVENT
BEGIN:VEVENT
DTEND;TZID=Asia/Novosibirsk;VALUE=DATE-TIME:20260518T215000
DTSTART;TZID=Asia/Novosibirsk;VALUE=DATE-TIME:20260518T201500
DESCRIPTION:Лабораторная работа\, 444-1
SUMMARY:Мировые информационные ресурсы
LOCATION:ф 439
END:VEVENT
BEGIN:VEVENT
DTEND;TZID=Asia/Novosibirsk;VALUE=DATE-TIME:20260420T200500
DTSTART;TZID=Asia/Novosibirsk;VALUE=DATE-TIME:20260420T183000
DESCRIPTION:Лабораторная работа\, 444-1
SUMMARY:Мировые информационные ресурсы
LOCATION:ф 439
END:VEVENT
BEGIN:VEVENT
DTEND;TZID=Asia/Novosibirsk;VALUE=DATE-TIME:20260504T200500
DTSTART;TZID=Asia/Novosibirsk;VALUE=DATE-TIME:20260504T183000
DESCRIPTION:Лабораторная работа\, 444-1
SUMMARY:Мировые информационные ресурсы
LOCATION:ф 439
END:VEVENT
BEGIN:VEVENT
DTEND;TZID=Asia/Novosibirsk;VALUE=DATE-TIME:20260518T200500
DTSTART;TZID=Asia/Novosibirsk;VALUE=DATE-TIME:20260518T183000
DESCRIPTION:Лабораторная работа\, 444-1
SUMMARY:Мировые информационные ресурсы
LOCATION:ф 439
END:VEVENT
BEGIN:VEVENT
DTEND;TZID=Asia/Novosibirsk;VALUE=DATE-TIME:20260413T200500
DTSTART;TZID=Asia/Novosibirsk;VALUE=DATE-TIME:20260413T183000
DESCRIPTION:Лабораторная работа\, 443-1
SUMMARY:Программная инженерия
LOCATION:ф 439
END:VEVENT
BEGIN:VEVENT
DTEND;TZID=Asia/Novosibirsk;VALUE=DATE-TIME:20260427T200500
DTSTART;TZID=Asia/Novosibirsk;VALUE=DATE-TIME:20260427T183000
DESCRIPTION:Лабораторная работа\, 443-1
SUMMARY:Программная инженерия
LOCATION:ф 439
END:VEVENT
BEGIN:VEVENT
DTEND;TZID=Asia/Novosibirsk;VALUE=DATE-TIME:20260511T200500
DTSTART;TZID=Asia/Novosibirsk;VALUE=DATE-TIME:20260511T183000
DESCRIPTION:Лабораторная работа\, 443-1
SUMMARY:Программная инженерия
LOCATION:ф 439
END:VEVENT
BEGIN:VEVENT
DTEND;TZID=Asia/Novosibirsk;VALUE=DATE-TIME:20260525T200500
DTSTART;TZID=Asia/Novosibirsk;VALUE=DATE-TIME:20260525T183000
DESCRIPTION:Лабораторная работа\, 443-1
SUMMARY:Программная инженерия
LOCATION:ф 439
END:VEVENT
BEGIN:VEVENT
DTEND;TZID=Asia/Novosibirsk;VALUE=DATE-TIME:20260608T200500
DTSTART;TZID=Asia/Novosibirsk;VALUE=DATE-TIME:20260608T183000
DESCRIPTION:Лабораторная работа\, 443-1
SUMMARY:Программная инженерия
LOCATION:ф 439
END:VEVENT
BEGIN:VEVENT
DTEND;TZID=Asia/Novosibirsk;VALUE=DATE-TIME:20260422T145000
DTSTART;TZID=Asia/Novosibirsk;VALUE=DATE-TIME:20260422T131500
DESCRIPTION:Практика\, 443-1
SUMMARY:Программная инженерия
LOCATION:ф 129
END:VEVENT
BEGIN:VEVENT
DTEND;TZID=Asia/Novosibirsk;VALUE=DATE-TIME:20260506T145000
DTSTART;TZID=Asia/Novosibirsk;VALUE=DATE-TIME:20260506T131500
DESCRIPTION:Практика\, 443-1
SUMMARY:Программная инженерия
LOCATION:ф 129
END:VEVENT
BEGIN:VEVENT
DTEND;TZID=Asia/Novosibirsk;VALUE=DATE-TIME:20260520T145000
DTSTART;TZID=Asia/Novosibirsk;VALUE=DATE-TIME:20260520T131500
DESCRIPTION:Практика\, 443-1
SUMMARY:Программная инженерия
LOCATION:ф 129
END:VEVENT
BEGIN:VEVENT
DTEND;TZID=Asia/Novosibirsk;VALUE=DATE-TIME:20260603T145000
DTSTART;TZID=Asia/Novosibirsk;VALUE=DATE-TIME:20260603T131500
DESCRIPTION:Практика\, 443-1
SUMMARY:Программная инженерия
LOCATION:ф 129
END:VEVENT
BEGIN:VEVENT
DTEND;TZID=Asia/Novosibirsk;VALUE=DATE-TIME:20260422T163500
DTSTART;TZID=Asia/Novosibirsk;VALUE=DATE-TIME:20260422T150000
DESCRIPTION:Лекция\, 443-1\, 443-2
SUMMARY:Программная инженерия
LOCATION:ф 129
END:VEVENT
BEGIN:VEVENT
DTEND;TZID=Asia/Novosibirsk;VALUE=DATE-TIME:20260506T163500
DTSTART;TZID=Asia/Novosibirsk;VALUE=DATE-TIME:20260506T150000
DESCRIPTION:Лекция\, 443-1\, 443-2
SUMMARY:Программная инженерия
LOCATION:ф 129
END:VEVENT
BEGIN:VEVENT
DTEND;TZID=Asia/Novosibirsk;VALUE=DATE-TIME:20260520T163500
DTSTART;TZID=Asia/Novosibirsk;VALUE=DATE-TIME:20260520T150000
DESCRIPTION:Лекция\, 443-1\, 443-2
SUMMARY:Программная инженерия
LOCATION:ф 129
END:VEVENT
BEGIN:VEVENT
DTEND;TZID=Asia/Novosibirsk;VALUE=DATE-TIME:20260603T163500
DTSTART;TZID=Asia/Novosibirsk;VALUE=DATE-TIME:20260603T150000
DESCRIPTION:Лекция\, 443-1\, 443-2
SUMMARY:Программная инженерия
LOCATION:ф 129
END:VEVENT
BEGIN:VEVENT
DTEND;TZID=Asia/Novosibirsk;VALUE=DATE-TIME:20260413T182000
DTSTART;TZID=Asia/Novosibirsk;VALUE=DATE-TIME:20260413T164500
DESCRIPTION:Лабораторная работа\, 443-2
SUMMARY:Программная инженерия
LOCATION:ф 439
END:VEVENT
BEGIN:VEVENT
DTEND;TZID=Asia/Novosibirsk;VALUE=DATE-TIME:20260427T182000
DTSTART;TZID=Asia/Novosibirsk;VALUE=DATE-TIME:20260427T164500
DESCRIPTION:Лабораторная работа\, 443-2
SUMMARY:Программная инженерия
LOCATION:ф 439
END:VEVENT
BEGIN:VEVENT
DTEND;TZID=Asia/Novosibirsk;VALUE=DATE-TIME:20260511T182000
DTSTART;TZID=Asia/Novosibirsk;VALUE=DATE-TIME:20260511T164500
DESCRIPTION:Лабораторная работа\, 443-2
SUMMARY:Программная инженерия
LOCATION:ф 439
END:VEVENT
BEGIN:VEVENT
DTEND;TZID=Asia/Novosibirsk;VALUE=DATE-TIME:20260525T182000
DTSTART;TZID=Asia/Novosibirsk;VALUE=DATE-TIME:20260525T164500
DESCRIPTION:Лабораторная работа\, 443-2
SUMMARY:Программная инженерия
LOCATION:ф 439
END:VEVENT
BEGIN:VEVENT
DTEND;TZID=Asia/Novosibirsk;VALUE=DATE-TIME:20260608T182000
DTSTART;TZID=Asia/Novosibirsk;VALUE=DATE-TIME:20260608T164500
DESCRIPTION:Лабораторная работа\, 443-2
SUMMARY:Программная инженерия
LOCATION:ф 439
END:VEVENT
BEGIN:VEVENT
DTEND;TZID=Asia/Novosibirsk;VALUE=DATE-TIME:20260421T215000
DTSTART;TZID=Asia/Novosibirsk;VALUE=DATE-TIME:20260421T201500
DESCRIPTION:Практика\, 443-2
SUMMARY:Программная инженерия
LOCATION:ф 401
END:VEVENT
BEGIN:VEVENT
DTEND;TZID=Asia/Novosibirsk;VALUE=DATE-TIME:20260505T215000
DTSTART;TZID=Asia/Novosibirsk;VALUE=DATE-TIME:20260505T201500
DESCRIPTION:Практика\, 443-2
SUMMARY:Программная инженерия
LOCATION:ф 401
END:VEVENT
BEGIN:VEVENT
DTEND;TZID=Asia/Novosibirsk;VALUE=DATE-TIME:20260519T215000
DTSTART;TZID=Asia/Novosibirsk;VALUE=DATE-TIME:20260519T201500
DESCRIPTION:Практика\, 443-2
SUMMARY:Программная инженерия
LOCATION:ф 401
END:VEVENT
BEGIN:VEVENT
DTEND;TZID=Asia/Novosibirsk;VALUE=DATE-TIME:20260602T215000
DTSTART;TZID=Asia/Novosibirsk;VALUE=DATE-TIME:20260602T201500
DESCRIPTION:Практика\, 443-2
SUMMARY:Программная инженерия
LOCATION:ф 401
END:VEVENT
BEGIN:VEVENT
DTEND;TZID=Asia/Novosibirsk;VALUE=DATE-TIME:20260420T182000
DTSTART;TZID=Asia/Novosibirsk;VALUE=DATE-TIME:20260420T164500
DESCRIPTION:Лабораторная работа\, з-92Э
SUMMARY:Сетевая экономика
LOCATION:ф 435
END:VEVENT
BEGIN:VEVENT
DTEND;TZID=Asia/Novosibirsk;VALUE=DATE-TIME:20260427T163500
DTSTART;TZID=Asia/Novosibirsk;VALUE=DATE-TIME:20260427T150000
DESCRIPTION:Лекция\, з-92Э
SUMMARY:Сетевая экономика
LOCATION:ф 412
END:VEVENT
BEGIN:VEVENT
DTEND;TZID=Asia/Novosibirsk;VALUE=DATE-TIME:20260428T200500
DTSTART;TZID=Asia/Novosibirsk;VALUE=DATE-TIME:20260428T183000
DESCRIPTION:Лабораторная работа\, з-92Э
SUMMARY:Сетевая экономика
LOCATION:ф 435
END:VEVENT
BEGIN:VEVENT
DTEND;TZID=Asia/Novosibirsk;VALUE=DATE-TIME:20260420T163500
DTSTART;TZID=Asia/Novosibirsk;VALUE=DATE-TIME:20260420T150000
DESCRIPTION:Лекция\, з-92Э
SUMMARY:Сетевая экономика
LOCATION:ф 412
END:VEVENT
BEGIN:VEVENT
DTEND;TZID=Asia/Novosibirsk;VALUE=DATE-TIME:20260429T102500
DTSTART;TZID=Asia/Novosibirsk;VALUE=DATE-TIME:20260429T085000
DESCRIPTION:Лекция\, з-92Э
SUMMARY:Сетевая экономика
LOCATION:ф 421
END:VEVENT
BEGIN:VEVENT
DTEND;TZID=Asia/Novosibirsk;VALUE=DATE-TIME:20260428T163500
DTSTART;TZID=Asia/Novosibirsk;VALUE=DATE-TIME:20260428T150000
DESCRIPTION:Лекция\, з-92Э
SUMMARY:Сетевая экономика
LOCATION:ф 129
END:VEVENT
BEGIN:VEVENT
DTEND;TZID=Asia/Novosibirsk;VALUE=DATE-TIME:20260428T182000
DTSTART;TZID=Asia/Novosibirsk;VALUE=DATE-TIME:20260428T164500
DESCRIPTION:Лабораторная работа\, з-92Э
SUMMARY:Сетевая экономика
LOCATION:ф 435
END:VEVENT
BEGIN:VEVENT
DTEND;TZID=Asia/Novosibirsk;VALUE=DATE-TIME:20260429T121500
DTSTART;TZID=Asia/Novosibirsk;VALUE=DATE-TIME:20260429T104000
DESCRIPTION:Лекция\, з-92Э
SUMMARY:Мировые информационные ресурсы
LOCATION:ф 421
END:VEVENT
BEGIN:VEVENT
DTEND;TZID=Asia/Novosibirsk;VALUE=DATE-TIME:20260506T182000
DTSTART;TZID=Asia/Novosibirsk;VALUE=DATE-TIME:20260506T164500
DESCRIPTION:Лекция\, з-92Э
SUMMARY:Мировые информационные ресурсы
LOCATION:ф 438
END:VEVENT
BEGIN:VEVENT
DTEND;TZID=Asia/Novosibirsk;VALUE=DATE-TIME:20260506T200500
DTSTART;TZID=Asia/Novosibirsk;VALUE=DATE-TIME:20260506T183000
DESCRIPTION:Лабораторная работа\, з-92Э
SUMMARY:Мировые информационные ресурсы
LOCATION:ф 438
END:VEVENT
BEGIN:VEVENT
DTEND;TZID=Asia/Novosibirsk;VALUE=DATE-TIME:20260506T215000
DTSTART;TZID=Asia/Novosibirsk;VALUE=DATE-TIME:20260506T201500
DESCRIPTION:Зачет\, з-92Э
SUMMARY:Сетевая экономика
LOCATION:ф 438
END:VEVENT
BEGIN:VEVENT
DTEND;TZID=Asia/Novosibirsk;VALUE=DATE-TIME:20260429T145000
DTSTART;TZID=Asia/Novosibirsk;VALUE=DATE-TIME:20260429T131500
DESCRIPTION:Лабораторная работа\, з-92Э\, с 12:30
SUMMARY:Мировые информационные ресурсы
LOCATION:ф 437
END:VEVENT
END:VCALENDAR
