BEGIN:VCALENDAR
PRODID;X-RICAL-TZSOURCE=TZINFO:timetable.tusur.ru
CALSCALE:GREGORIAN
VERSION:2.0
BEGIN:VTIMEZONE
TZID;X-RICAL-TZSOURCE=TZINFO:Asia/Novosibirsk
BEGIN:STANDARD
DTSTART:20160724T020000
RDATE:20160724T040000
TZOFFSETFROM:+0600
TZOFFSETTO:+0700
TZNAME:+07
END:STANDARD
END:VTIMEZONE
BEGIN:VEVENT
DTEND;TZID=Asia/Novosibirsk;VALUE=DATE-TIME:20260415T102500
DTSTART;TZID=Asia/Novosibirsk;VALUE=DATE-TIME:20260415T085000
DESCRIPTION:Лекция\, 094-1-инд\, 094-2-инд
SUMMARY:Гражданское право
LOCATION:улк 309
END:VEVENT
BEGIN:VEVENT
DTEND;TZID=Asia/Novosibirsk;VALUE=DATE-TIME:20260429T102500
DTSTART;TZID=Asia/Novosibirsk;VALUE=DATE-TIME:20260429T085000
DESCRIPTION:Лекция\, 094-1-инд\, 094-2-инд
SUMMARY:Гражданское право
LOCATION:улк 309
END:VEVENT
BEGIN:VEVENT
DTEND;TZID=Asia/Novosibirsk;VALUE=DATE-TIME:20260513T102500
DTSTART;TZID=Asia/Novosibirsk;VALUE=DATE-TIME:20260513T085000
DESCRIPTION:Лекция\, 094-1-инд\, 094-2-инд
SUMMARY:Гражданское право
LOCATION:улк 309
END:VEVENT
BEGIN:VEVENT
DTEND;TZID=Asia/Novosibirsk;VALUE=DATE-TIME:20260527T102500
DTSTART;TZID=Asia/Novosibirsk;VALUE=DATE-TIME:20260527T085000
DESCRIPTION:Лекция\, 094-1-инд\, 094-2-инд
SUMMARY:Гражданское право
LOCATION:улк 309
END:VEVENT
BEGIN:VEVENT
DTEND;TZID=Asia/Novosibirsk;VALUE=DATE-TIME:20260610T102500
DTSTART;TZID=Asia/Novosibirsk;VALUE=DATE-TIME:20260610T085000
DESCRIPTION:Лекция\, 094-1-инд\, 094-2-инд
SUMMARY:Гражданское право
LOCATION:улк 309
END:VEVENT
BEGIN:VEVENT
DTEND;TZID=Asia/Novosibirsk;VALUE=DATE-TIME:20260422T102500
DTSTART;TZID=Asia/Novosibirsk;VALUE=DATE-TIME:20260422T085000
DESCRIPTION:Лекция\, 094-1-инд\, 094-2-инд
SUMMARY:Гражданское право
LOCATION:улк 309
END:VEVENT
BEGIN:VEVENT
DTEND;TZID=Asia/Novosibirsk;VALUE=DATE-TIME:20260506T102500
DTSTART;TZID=Asia/Novosibirsk;VALUE=DATE-TIME:20260506T085000
DESCRIPTION:Лекция\, 094-1-инд\, 094-2-инд
SUMMARY:Гражданское право
LOCATION:улк 309
END:VEVENT
BEGIN:VEVENT
DTEND;TZID=Asia/Novosibirsk;VALUE=DATE-TIME:20260520T102500
DTSTART;TZID=Asia/Novosibirsk;VALUE=DATE-TIME:20260520T085000
DESCRIPTION:Лекция\, 094-1-инд\, 094-2-инд
SUMMARY:Гражданское право
LOCATION:улк 309
END:VEVENT
BEGIN:VEVENT
DTEND;TZID=Asia/Novosibirsk;VALUE=DATE-TIME:20260603T102500
DTSTART;TZID=Asia/Novosibirsk;VALUE=DATE-TIME:20260603T085000
DESCRIPTION:Лекция\, 094-1-инд\, 094-2-инд
SUMMARY:Гражданское право
LOCATION:улк 309
END:VEVENT
END:VCALENDAR
