BEGIN:VCALENDAR
PRODID;X-RICAL-TZSOURCE=TZINFO:timetable.tusur.ru
CALSCALE:GREGORIAN
VERSION:2.0
BEGIN:VTIMEZONE
TZID;X-RICAL-TZSOURCE=TZINFO:Asia/Novosibirsk
BEGIN:STANDARD
DTSTART:20160724T020000
RDATE:20160724T040000
TZOFFSETFROM:+0600
TZOFFSETTO:+0700
TZNAME:+07
END:STANDARD
END:VTIMEZONE
BEGIN:VEVENT
DTEND;TZID=Asia/Novosibirsk;VALUE=DATE-TIME:20260424T121500
DTSTART;TZID=Asia/Novosibirsk;VALUE=DATE-TIME:20260424T104000
DESCRIPTION:Курсовая работа\, 741-1
SUMMARY:Финансовый анализ
LOCATION:улк 409
END:VEVENT
BEGIN:VEVENT
DTEND;TZID=Asia/Novosibirsk;VALUE=DATE-TIME:20260424T102500
DTSTART;TZID=Asia/Novosibirsk;VALUE=DATE-TIME:20260424T085000
DESCRIPTION:Курсовая работа\, 741-1
SUMMARY:Финансовый анализ
LOCATION:улк 409
END:VEVENT
BEGIN:VEVENT
DTEND;TZID=Asia/Novosibirsk;VALUE=DATE-TIME:20260417T102500
DTSTART;TZID=Asia/Novosibirsk;VALUE=DATE-TIME:20260417T085000
DESCRIPTION:Курсовая работа\, 741-1
SUMMARY:Финансовый анализ
LOCATION:улк 309
END:VEVENT
BEGIN:VEVENT
DTEND;TZID=Asia/Novosibirsk;VALUE=DATE-TIME:20260425T182000
DTSTART;TZID=Asia/Novosibirsk;VALUE=DATE-TIME:20260425T164500
DESCRIPTION:Лекция\, з-72Б
SUMMARY:Финансовый анализ
LOCATION:улк 808
END:VEVENT
BEGIN:VEVENT
DTEND;TZID=Asia/Novosibirsk;VALUE=DATE-TIME:20260502T182000
DTSTART;TZID=Asia/Novosibirsk;VALUE=DATE-TIME:20260502T164500
DESCRIPTION:Практика\, з-72Б
SUMMARY:Финансовый анализ
LOCATION:улк 305
END:VEVENT
BEGIN:VEVENT
DTEND;TZID=Asia/Novosibirsk;VALUE=DATE-TIME:20260502T163500
DTSTART;TZID=Asia/Novosibirsk;VALUE=DATE-TIME:20260502T150000
DESCRIPTION:Практика\, з-72Б
SUMMARY:Финансовый анализ
LOCATION:улк 305
END:VEVENT
BEGIN:VEVENT
DTEND;TZID=Asia/Novosibirsk;VALUE=DATE-TIME:20260425T163500
DTSTART;TZID=Asia/Novosibirsk;VALUE=DATE-TIME:20260425T150000
DESCRIPTION:Лекция\, з-72Б
SUMMARY:Финансовый анализ
LOCATION:улк 808
END:VEVENT
END:VCALENDAR
